BEGIN:VCALENDAR
VERSION:2.0
PRODID:-//www.dnesnivylet.cz                                                                                                                        Tip na výlet pro celou rodinu. - ECPv6.15.13.1//NONSGML v1.0//EN
CALSCALE:GREGORIAN
METHOD:PUBLISH
X-ORIGINAL-URL:https://dnesnivylet.cz
X-WR-CALDESC:Akce na www.dnesnivylet.cz                                                                                                                        Tip na výlet pro celou rodinu.
REFRESH-INTERVAL;VALUE=DURATION:PT1H
X-Robots-Tag:noindex
X-PUBLISHED-TTL:PT1H
BEGIN:VTIMEZONE
TZID:Europe/Prague
BEGIN:DAYLIGHT
TZOFFSETFROM:+0100
TZOFFSETTO:+0200
TZNAME:CEST
DTSTART:20250330T010000
END:DAYLIGHT
BEGIN:STANDARD
TZOFFSETFROM:+0200
TZOFFSETTO:+0100
TZNAME:CET
DTSTART:20251026T010000
END:STANDARD
BEGIN:DAYLIGHT
TZOFFSETFROM:+0100
TZOFFSETTO:+0200
TZNAME:CEST
DTSTART:20260329T010000
END:DAYLIGHT
BEGIN:STANDARD
TZOFFSETFROM:+0200
TZOFFSETTO:+0100
TZNAME:CET
DTSTART:20261025T010000
END:STANDARD
BEGIN:DAYLIGHT
TZOFFSETFROM:+0100
TZOFFSETTO:+0200
TZNAME:CEST
DTSTART:20270328T010000
END:DAYLIGHT
BEGIN:STANDARD
TZOFFSETFROM:+0200
TZOFFSETTO:+0100
TZNAME:CET
DTSTART:20271031T010000
END:STANDARD
END:VTIMEZONE
BEGIN:VEVENT
DTSTART;TZID=Europe/Prague:20260612T200000
DTEND;TZID=Europe/Prague:20260612T230000
DTSTAMP:20260419T172457
CREATED:20260306T172349Z
LAST-MODIFIED:20260306T172350Z
UID:19032-1781294400-1781305200@dnesnivylet.cz
SUMMARY:Pavel Žalman Lohonka – 80 Narozeninový koncert s hosty
DESCRIPTION:Pavel Žalman Lohonka – 80 Narozeninový koncert s hosty se uskuteční dne 2026-06-12 v 20:00 v Děhylov\, Děhylov – areál Loděnice. \n🎟️ Koupit vstupenku \n\nLegenda české folkové hudby Pavel Žalman Lohonka slaví na jaře 2026 osmdesáté narozeniny a zve posluchače na velký výroční koncert pro Ostravu a okolí do malebného prostředí Loděnice Děhylov. \nV programu zazní jeho klíčové písně od 70. let po současnost\, upravené pro akustickou kapelu a hosty. Na pódiu se vedle písničkářovy domovské skupiny Žalman & spol. objeví zpěvačka Pavlína Jíšová\, smyčcové Kubitovo kvarteto a multiinstrumentalista Robert Fischmann. Nenechte si ují výjimečný večer\, který připomene šíři Žalmanovy tvorby\, sílu jeho melodií a nadčasovost textů. Letní Koncert Pavla Žalmana Lohonky s kapelou v areálu  Loděnice Děhylov proběhne v malebném prostředí  přímo na břehu řeky Opavy.  \nPři akci budou připravena místa k sezení. \nDěti do 10 let včetně zdarma. \n\nTento tip na kulturní akci v Děhylov najdete v přehledu na Dnesnivylet.cz spolu s dalšími koncerty\, festivaly a divadelními představeními.Každý si vybere co se mu líbí. Nezapomeňte koupit vstupenky včas\, stačí kliknout a budete přesměrování na oficiálního prodejce vstupenek.
URL:https://dnesnivylet.cz/event/pavel-zalman-lohonka-80-narozeninovy-koncert-s-hosty/
LOCATION:Děhylov – areál Loděnice\, Děhylov\, Děhylov - areál Loděnice\, Děhylov\, Česká republika
CATEGORIES:Koncert
ATTACH;FMTTYPE=image/jpeg:https://dnesnivylet.cz/wp-content/uploads/2026/03/320-6e8ea462e3b5489ca21b29f26c6eda87.jpg
END:VEVENT
END:VCALENDAR