BEGIN:VCALENDAR
VERSION:2.0
PRODID:-//www.dnesnivylet.cz                                                                                                                        Tip na výlet pro celou rodinu. - ECPv6.15.13.1//NONSGML v1.0//EN
CALSCALE:GREGORIAN
METHOD:PUBLISH
X-WR-CALNAME:www.dnesnivylet.cz                                                                                                                        Tip na výlet pro celou rodinu.
X-ORIGINAL-URL:https://dnesnivylet.cz
X-WR-CALDESC:Akce na www.dnesnivylet.cz                                                                                                                        Tip na výlet pro celou rodinu.
REFRESH-INTERVAL;VALUE=DURATION:PT1H
X-Robots-Tag:noindex
X-PUBLISHED-TTL:PT1H
BEGIN:VTIMEZONE
TZID:Europe/Prague
BEGIN:DAYLIGHT
TZOFFSETFROM:+0100
TZOFFSETTO:+0200
TZNAME:CEST
DTSTART:20250330T010000
END:DAYLIGHT
BEGIN:STANDARD
TZOFFSETFROM:+0200
TZOFFSETTO:+0100
TZNAME:CET
DTSTART:20251026T010000
END:STANDARD
BEGIN:DAYLIGHT
TZOFFSETFROM:+0100
TZOFFSETTO:+0200
TZNAME:CEST
DTSTART:20260329T010000
END:DAYLIGHT
BEGIN:STANDARD
TZOFFSETFROM:+0200
TZOFFSETTO:+0100
TZNAME:CET
DTSTART:20261025T010000
END:STANDARD
BEGIN:DAYLIGHT
TZOFFSETFROM:+0100
TZOFFSETTO:+0200
TZNAME:CEST
DTSTART:20270328T010000
END:DAYLIGHT
BEGIN:STANDARD
TZOFFSETFROM:+0200
TZOFFSETTO:+0100
TZNAME:CET
DTSTART:20271031T010000
END:STANDARD
END:VTIMEZONE
BEGIN:VEVENT
DTSTART;TZID=Europe/Prague:20260613T190000
DTEND;TZID=Europe/Prague:20260613T220000
DTSTAMP:20260419T172032
CREATED:20260306T172241Z
LAST-MODIFIED:20260306T172242Z
UID:19008-1781377200-1781388000@dnesnivylet.cz
SUMMARY:Vůně nekonečná
DESCRIPTION:Vůně nekonečná se uskuteční dne 2026-06-13 v 19:00 v Kladruby\, Klášter Kladruby. \n🎟️ Koupit vstupenku \n\n🌟🎶 MAOK v klášteře Kladruby \nPokud hledáte koncert\, kde si můžete v krásném prostředí odpočinout a vypnout myšlenky\, Maokova hudba je přesně pro vás. \nZveme vás 13. června do Kláštera Kladruby. Maokova hudba se v 19 hodin rozezní v kostele nanebevzetí Panny Marie\, sv. Benedikta a sv. Wolfganga. \nGeniální architekt Jan Blažej Santini zde navrhl akusticky dokonalý prostor. Zvuk se tu měkce odráží\, nespěchá. Každý tón má čas dozrát. \nOdpoledne si můžete projít klášterní okruhy\, nahlédnout do Archivu vůní Rafaella a setkat se s esencemi i klášterní medicínou Tem.peratio. \n🎶 Večer pak nechte hudbu\, aby vás provedla vaším vnitřním světem. \n🎫 K dispozici jsou i zvýhodněné vstupenky pro 2 a 3 osoby. Jejich počet je omezený. \nKoncert je vhodný pro děti od 10 let\, pokud jsou na meditační hudbu zvyklé. \nDopřejte si zážitek pro všechny smysly. Užijte si chvíle odpočinku\, uvolnění a tichého spočinutí\, které jsou dnes vzácností. \nZhruba týden před koncertem vám zašleme podrobnější informace na e-mail. Přidejte si music@maok.sk do adresáře\, ať vám nespaneme do spamu. \nTěšíme se na vás! \nIrena\, produkce a kouzla 🌠 \nMAOK \n  \n\nTento tip na kulturní akci v Kladruby najdete v přehledu na Dnesnivylet.cz spolu s dalšími koncerty\, festivaly a divadelními představeními.Každý si vybere co se mu líbí. Nezapomeňte koupit vstupenky včas\, stačí kliknout a budete přesměrování na oficiálního prodejce vstupenek.
URL:https://dnesnivylet.cz/event/vune-nekonecna/
LOCATION:Klášter Kladruby\, Kladruby\, Klášter Kladruby\, Kladruby\, Česká republika
CATEGORIES:Koncert
ATTACH;FMTTYPE=image/jpeg:https://dnesnivylet.cz/wp-content/uploads/2026/03/320-b7c907b1d4af4cf186e45ec50dad1186.jpg
END:VEVENT
END:VCALENDAR