BEGIN:VCALENDAR
VERSION:2.0
PRODID:-//www.dnesnivylet.cz                                                                                                                        Tip na výlet pro celou rodinu. - ECPv6.15.13.1//NONSGML v1.0//EN
CALSCALE:GREGORIAN
METHOD:PUBLISH
X-ORIGINAL-URL:https://dnesnivylet.cz
X-WR-CALDESC:Akce na www.dnesnivylet.cz                                                                                                                        Tip na výlet pro celou rodinu.
REFRESH-INTERVAL;VALUE=DURATION:PT1H
X-Robots-Tag:noindex
X-PUBLISHED-TTL:PT1H
BEGIN:VTIMEZONE
TZID:Europe/Prague
BEGIN:DAYLIGHT
TZOFFSETFROM:+0100
TZOFFSETTO:+0200
TZNAME:CEST
DTSTART:20250330T010000
END:DAYLIGHT
BEGIN:STANDARD
TZOFFSETFROM:+0200
TZOFFSETTO:+0100
TZNAME:CET
DTSTART:20251026T010000
END:STANDARD
BEGIN:DAYLIGHT
TZOFFSETFROM:+0100
TZOFFSETTO:+0200
TZNAME:CEST
DTSTART:20260329T010000
END:DAYLIGHT
BEGIN:STANDARD
TZOFFSETFROM:+0200
TZOFFSETTO:+0100
TZNAME:CET
DTSTART:20261025T010000
END:STANDARD
BEGIN:DAYLIGHT
TZOFFSETFROM:+0100
TZOFFSETTO:+0200
TZNAME:CEST
DTSTART:20270328T010000
END:DAYLIGHT
BEGIN:STANDARD
TZOFFSETFROM:+0200
TZOFFSETTO:+0100
TZNAME:CET
DTSTART:20271031T010000
END:STANDARD
END:VTIMEZONE
BEGIN:VEVENT
DTSTART;TZID=Europe/Prague:20260620T190000
DTEND;TZID=Europe/Prague:20260620T220000
DTSTAMP:20260419T172144
CREATED:20251215T162642Z
LAST-MODIFIED:20251215T162643Z
UID:15679-1781982000-1781992800@dnesnivylet.cz
SUMMARY:Hana a Petr Ulrychovi & Javory
DESCRIPTION:Hana a Petr Ulrychovi & Javory se uskuteční dne 2026-06-20 v 19:00 v Cholina\, Farní zahrada. \n🎟️ Koupit vstupenku \n\nSourozenci Hana a Petr Ulrychovi jsou stálicemi na české hudební scéně. Hlavním důvodem oblíbenosti této dvojice je profesionálnost a umělecké výkony\, na které nemá vliv čas. \nHlas Hany a poetika textů Petra Ulrycha jsou garantem jedinečného zážitku. Navíc je hudební doprovod sourozenců mimořádně pestrý. A to díky dvěma hudebním sestavám\, které je v současné době doprovázejí. V klasických Javorech dominují housle a cimbál\, Javory beat je svým způsobem návratem k rockovějšímu zvuku. \nPodstatné ale je\, že obě sestavy naplňují\, a bez kompromisů\, základní směřování Hany a Petra. Ani beat\, ani folk\, ani folklor\, ale původní javorovské písně čerpající z domácích kořenů. \n\nTento tip na kulturní akci v Cholina najdete v přehledu na Dnesnivylet.cz spolu s dalšími koncerty\, festivaly a divadelními představeními.Každý si vybere co se mu líbí. Nezapomeňte koupit vstupenky včas\, stačí kliknout a budete přesměrování na oficiálního prodejce vstupenek.
URL:https://dnesnivylet.cz/event/hana-a-petr-ulrychovi-javory/
LOCATION:Farní zahrada\, Cholina\, Farní zahrada\, Cholina\, Česká republika
CATEGORIES:Koncert
ATTACH;FMTTYPE=image/jpeg:https://dnesnivylet.cz/wp-content/uploads/2025/12/320-4a0f66564aa542679fc132f7fcb62ca5.jpg
END:VEVENT
BEGIN:VEVENT
DTSTART;TZID=Europe/Prague:20260620T203000
DTEND;TZID=Europe/Prague:20260620T233000
DTSTAMP:20260419T172144
CREATED:20260314T190649Z
LAST-MODIFIED:20260314T190649Z
UID:19555-1781987400-1781998200@dnesnivylet.cz
SUMMARY:Jerónimo Maya Trio (ESP) "Gitano Errante"
DESCRIPTION:Jerónimo Maya Trio (ESP) „Gitano Errante“ se uskuteční dne 2026-06-20 v 20:30 v Brno\, Špilberk – Hlavní Nádvoří. \n🎟️ Koupit vstupenku \n\nNa 23. ročníku festivalu Ibérica se můžeme těšit na velkou premiéru: v červnu vystoupí poprvé v České republice flamenkový kytarový virtuóz Jerónimo Maya.Jerónimo Maya není jen jméno – je to fenomén\, přírodní úkaz srovnatelný s polární září či vzácným drahokamem. \nNázev představení Gitano Errante můžeme přeložit jako Putující cikán. Jerónimo je hrdým příslušníkem svého etnika\, španělských gitanos\, a zároveň věčným poutníkem a hledačem na cestách hudby.Přímý potomek legendárního praotce flamenkové kytary Ramóna Montoyi se doslova narodil s kytarou v kolébce. Již ve dvanácti letech vystupoval po boku Paca de Lucíi v newyorské Carnegie Hall. Ze zázračného dítěte vyrostl kytarový virtuóz\, který se vymyká běžnému zařazení – brilantní skladatel a odvážný experimentátor\, přesto však hluboce zakořeněný ve flamencové tradici. \n  \nNa koncertech 19. 6. v Praze a 20. 6. v Brně jej doprovodí tanečník Daniel Caballero a perkusista Antonio Losada. \n\nTento tip na kulturní akci v Brno najdete v přehledu na Dnesnivylet.cz spolu s dalšími koncerty\, festivaly a divadelními představeními.Každý si vybere co se mu líbí. Nezapomeňte koupit vstupenky včas\, stačí kliknout a budete přesměrování na oficiálního prodejce vstupenek.
URL:https://dnesnivylet.cz/event/jeronimo-maya-trio-esp-gitano-errante/
LOCATION:Špilberk – Hlavní Nádvoří\, Brno\, Špilberk - Hlavní Nádvoří\, Brno\, Česká republika
CATEGORIES:Koncert
ATTACH;FMTTYPE=image/jpeg:https://dnesnivylet.cz/wp-content/uploads/2026/03/320-7a0bb06209e140cfba034a1ef829244c.jpg
END:VEVENT
END:VCALENDAR