BEGIN:VCALENDAR
VERSION:2.0
PRODID:-//www.dnesnivylet.cz                                                                                                                        Tip na výlet pro celou rodinu. - ECPv6.15.13.1//NONSGML v1.0//EN
CALSCALE:GREGORIAN
METHOD:PUBLISH
X-ORIGINAL-URL:https://dnesnivylet.cz
X-WR-CALDESC:Akce na www.dnesnivylet.cz                                                                                                                        Tip na výlet pro celou rodinu.
REFRESH-INTERVAL;VALUE=DURATION:PT1H
X-Robots-Tag:noindex
X-PUBLISHED-TTL:PT1H
BEGIN:VTIMEZONE
TZID:Europe/Prague
BEGIN:DAYLIGHT
TZOFFSETFROM:+0100
TZOFFSETTO:+0200
TZNAME:CEST
DTSTART:20250330T010000
END:DAYLIGHT
BEGIN:STANDARD
TZOFFSETFROM:+0200
TZOFFSETTO:+0100
TZNAME:CET
DTSTART:20251026T010000
END:STANDARD
BEGIN:DAYLIGHT
TZOFFSETFROM:+0100
TZOFFSETTO:+0200
TZNAME:CEST
DTSTART:20260329T010000
END:DAYLIGHT
BEGIN:STANDARD
TZOFFSETFROM:+0200
TZOFFSETTO:+0100
TZNAME:CET
DTSTART:20261025T010000
END:STANDARD
BEGIN:DAYLIGHT
TZOFFSETFROM:+0100
TZOFFSETTO:+0200
TZNAME:CEST
DTSTART:20270328T010000
END:DAYLIGHT
BEGIN:STANDARD
TZOFFSETFROM:+0200
TZOFFSETTO:+0100
TZNAME:CET
DTSTART:20271031T010000
END:STANDARD
END:VTIMEZONE
BEGIN:VEVENT
DTSTART;TZID=Europe/Prague:20260912T190000
DTEND;TZID=Europe/Prague:20260912T220000
DTSTAMP:20260420T035647
CREATED:20260321T195239Z
LAST-MODIFIED:20260321T195240Z
UID:19672-1789239600-1789250400@dnesnivylet.cz
SUMMARY:RADŮZA - letní koncert
DESCRIPTION:RADŮZA – letní koncert se uskuteční dne 2026-09-12 v 19:00 v Děhylov\, Děhylov – areál Loděnice. \n🎟️ Koupit vstupenku \n\nOpen Air Letní Koncert v areálu  Loděnice Děhylov proběhne v malebném prostředí  přímo na břehu řeky Opavy. \nPři koncertu budou k připravena místa k sezení.  \n\nTento tip na kulturní akci v Děhylov najdete v přehledu na Dnesnivylet.cz spolu s dalšími koncerty\, festivaly a divadelními představeními.Každý si vybere co se mu líbí. Nezapomeňte koupit vstupenky včas\, stačí kliknout a budete přesměrování na oficiálního prodejce vstupenek.
URL:https://dnesnivylet.cz/event/raduza-letni-koncert/
LOCATION:Děhylov – areál Loděnice\, Děhylov\, Děhylov - areál Loděnice\, Děhylov\, Česká republika
CATEGORIES:Koncert
ATTACH;FMTTYPE=image/jpeg:https://dnesnivylet.cz/wp-content/uploads/2026/03/320-ede5f6ff431c42adb715471e70bdf34d.jpg
END:VEVENT
BEGIN:VEVENT
DTSTART;TZID=Europe/Prague:20261113T100100
DTEND;TZID=Europe/Prague:20261113T130100
DTSTAMP:20260420T035647
CREATED:20260104T191140Z
LAST-MODIFIED:20260104T191141Z
UID:16281-1794564060-1794574860@dnesnivylet.cz
SUMMARY:9. Mezinárodní konference Sueneé Universe 2026
DESCRIPTION:9. Mezinárodní konference Sueneé Universe 2026 se uskuteční dne 2026-11-13 v 10:01 v Praha\, Kino Dlabačov. \n🎟️ Koupit vstupenku \n\nIf you don’t understand Czech\, buy a ticket in English. \nZpravodajský server Sueneé Universe  pořádá v Praze o víkendu 13.11. až 15.11. od 10:00 již 9. Mezinárodní konferenci exopolitiky\, historie a spirituality na téma MIMOZENMŠŤANÉ A EVOLUCE LIDSTVA. Více informací najde od 01.02.2026 na stránkách www.ufokonference.cz. \n  \nPROGRAM \nPodrobný program včetně přednášejících najdete na stránkách konference.==== \nOd 16.11.2026 vám bude k dispozici původní záznam živého přenosu. \n\nTento tip na kulturní akci v Praha najdete v přehledu na Dnesnivylet.cz spolu s dalšími koncerty\, festivaly a divadelními představeními.Každý si vybere co se mu líbí. Nezapomeňte koupit vstupenky včas\, stačí kliknout a budete přesměrování na oficiálního prodejce vstupenek.
URL:https://dnesnivylet.cz/event/9-mezinarodni-konference-suenee-universe-2026/
LOCATION:Kino Dlabačov\, Praha\, Kino Dlabačov\, Praha\, Česká republika
CATEGORIES:Koncert
ATTACH;FMTTYPE=image/jpeg:https://dnesnivylet.cz/wp-content/uploads/2026/01/320-0fcbd6fd93414a77a323b76200dcd6cc.jpg
END:VEVENT
BEGIN:VEVENT
DTSTART;TZID=Europe/Prague:20261113T100100
DTEND;TZID=Europe/Prague:20261113T130100
DTSTAMP:20260420T035647
CREATED:20260104T191141Z
LAST-MODIFIED:20260104T191141Z
UID:16284-1794564060-1794574860@dnesnivylet.cz
SUMMARY:9th Conference Exopolitics\, History & Spirituality 2026
DESCRIPTION:9th Conference Exopolitics\, History & Spirituality 2026 se uskuteční dne 2026-11-13 v 10:01 v Praha\, Kino Dlabačov. \n🎟️ Koupit vstupenku \n\nPokud tohle přečteš\, kup si vstupenku v češtině. \nPROGRAMThe news platform Sueneé Universe is organizing the 9th International Conference of UFO\, Exopolitics\, History and Spirituality on the topic NON-HUMAN INTELIGENCE AND HUMAN EVOLUTION. It takes place in Dlabačov\, Prague (Czech Republic) on the weekend from 13.11. to 15.11.2026. \nFOREIGN SPEAKERS: \n\nRobert Bernatowicz (Live) 🇵🇱\nFrancisco Correa (Live) 🇵🇹\nRobert Fleischer (Live) 🇩🇪\nAndreas Lani (Live) 🇮🇹\nMORE SPEAKERS WILL BE ANNOUNCED SOON…\n\nTHE CZECH SPEAKERS ARE TRANSLATED TO ENGLISH! \n\nSueneé (exopolitics)\, Alexandra McKenzie (science of consciousness)\, Jarek Doležel (ancient history)\, Áda Inneman (astronomy)\, Jan Rak (quantum physics) and many\, many others! 🇨🇿\n\nAll of the main program is available in Czech and English. The additional program in the small teahouse is ONLY in Czech. \nYou can attend in person at the Dlabačov (Prague) or online (YouTube). \nCo-create a new universe with us!  \nTa Ura will be the host on the main stage\, Aleš will be interviewing guests and speakers on the Red Carpet\, and the director fo the conference\, Sueneé\, will join them. \nADDITIONAL DISCLAIMER ABOUT TRANSLATION: \nForeign speakers present in English. Czech and Slovak guests in their native language. Continuous translation of the whole program into English is provided on the Main Stage. We do not provide translation of lectures in the Tea Room. \nMore information can be found at www.ufokonference.cz/en. \n\nTento tip na kulturní akci v Praha najdete v přehledu na Dnesnivylet.cz spolu s dalšími koncerty\, festivaly a divadelními představeními.Každý si vybere co se mu líbí. Nezapomeňte koupit vstupenky včas\, stačí kliknout a budete přesměrování na oficiálního prodejce vstupenek.
URL:https://dnesnivylet.cz/event/9th-conference-exopolitics-history-spirituality-2026/
LOCATION:Kino Dlabačov\, Praha\, Kino Dlabačov\, Praha\, Česká republika
CATEGORIES:Koncert
ATTACH;FMTTYPE=image/jpeg:https://dnesnivylet.cz/wp-content/uploads/2026/01/320-e8e859bf0eb54214ba1601f2d48580f3.jpg
END:VEVENT
BEGIN:VEVENT
DTSTART;TZID=Europe/Prague:20261211T210000
DTEND;TZID=Europe/Prague:20261212T000000
DTSTAMP:20260420T035647
CREATED:20260419T122320Z
LAST-MODIFIED:20260419T122321Z
UID:20912-1797022800-1797033600@dnesnivylet.cz
SUMMARY:Timudej | Litomyšl
DESCRIPTION:Timudej | Litomyšl se uskuteční dne 2026-12-11 v 21:00 v Litomyšl\, MC Kotelna. \n🎟️ Koupit vstupenku \nTento tip na kulturní akci v Litomyšl najdete v přehledu na Dnesnivylet.cz spolu s dalšími koncerty\, festivaly a divadelními představeními.Každý si vybere co se mu líbí. Nezapomeňte koupit vstupenky včas\, stačí kliknout a budete přesměrování na oficiálního prodejce vstupenek.
URL:https://dnesnivylet.cz/event/timudej-litomysl/
LOCATION:MC Kotelna\, Litomyšl\, MC Kotelna\, Litomyšl\, Česká republika
CATEGORIES:Koncert
ATTACH;FMTTYPE=image/jpeg:https://dnesnivylet.cz/wp-content/uploads/2026/04/320-fb7162cc614449c78c90a0c5c1e67001.jpg
END:VEVENT
END:VCALENDAR