BEGIN:VCALENDAR
VERSION:2.0
PRODID:-//www.dnesnivylet.cz                                                                                                                        Tip na výlet pro celou rodinu. - ECPv6.15.13.1//NONSGML v1.0//EN
CALSCALE:GREGORIAN
METHOD:PUBLISH
X-WR-CALNAME:www.dnesnivylet.cz                                                                                                                        Tip na výlet pro celou rodinu.
X-ORIGINAL-URL:https://dnesnivylet.cz
X-WR-CALDESC:Akce na www.dnesnivylet.cz                                                                                                                        Tip na výlet pro celou rodinu.
REFRESH-INTERVAL;VALUE=DURATION:PT1H
X-Robots-Tag:noindex
X-PUBLISHED-TTL:PT1H
BEGIN:VTIMEZONE
TZID:Europe/Prague
BEGIN:DAYLIGHT
TZOFFSETFROM:+0100
TZOFFSETTO:+0200
TZNAME:CEST
DTSTART:20240331T010000
END:DAYLIGHT
BEGIN:STANDARD
TZOFFSETFROM:+0200
TZOFFSETTO:+0100
TZNAME:CET
DTSTART:20241027T010000
END:STANDARD
BEGIN:DAYLIGHT
TZOFFSETFROM:+0100
TZOFFSETTO:+0200
TZNAME:CEST
DTSTART:20250330T010000
END:DAYLIGHT
BEGIN:STANDARD
TZOFFSETFROM:+0200
TZOFFSETTO:+0100
TZNAME:CET
DTSTART:20251026T010000
END:STANDARD
BEGIN:DAYLIGHT
TZOFFSETFROM:+0100
TZOFFSETTO:+0200
TZNAME:CEST
DTSTART:20260329T010000
END:DAYLIGHT
BEGIN:STANDARD
TZOFFSETFROM:+0200
TZOFFSETTO:+0100
TZNAME:CET
DTSTART:20261025T010000
END:STANDARD
END:VTIMEZONE
BEGIN:VEVENT
DTSTART;TZID=Europe/Prague:20251101T190000
DTEND;TZID=Europe/Prague:20251101T220000
DTSTAMP:20260419T220417
CREATED:20251030T150252Z
LAST-MODIFIED:20251030T150252Z
UID:10724-1762023600-1762034400@dnesnivylet.cz
SUMMARY:Samhainový koncert Nemuer a premiéra klipu Repelling Apophis
DESCRIPTION:Samhainový koncert Nemuer a premiéra klipu Repelling Apophis se uskuteční dne 2025-11-01 v 19:00 v Praha\, Kaštan – Scéna Unijazzu . \n🎟️ Koupit vstupenku \n\nV sobotu se klub Kaštan ponoří do temného pohanského světa dávné magie\, prastarých příběhů a rituálů. \nNEMUER vás provede staroseverskou mytologií i staroegyptským podsvětím a společně s vámi oslaví svátek Samhain jedinečným koncertem. Čeká vás cesta časem a fantazií – a také premiéra nového videoklipu Repelling Apophis\, který vás vtáhne do zaklínadel staroegyptské Knihy mrtvých. \nDále vás čeká keltský rituál\, který provede Česká pohanská společnost. A na pódiu se kromě NEMUER\, představí i speciální host – Dominik Svoboda\, skladatel filmové a herní hudby\, který vás vtáhne do hlubin temných emocí pomocí svého elektrifikovaného violoncella. \nSpeciálním hostem večera bude také malířka Klára Sedlo – právě její rozpohybované obrazy ožívají v animovaných částech videoklipu. Videoklip bude doplněn komentářem a bude prostor i pro vaše otázky. \nVideoklip je součástí připravovaného umělecko-hudebního filmu oživujícího staroegyptskou Knihu mrtvých. Ve spolupráci s egyptology a lingvisty byly použity původní zaklínadla ve zrekonstruované staroegyptštině. \nPřijďte zažít večer plný rituálů\, hudby navozující trans\, prastarých hudebních nástrojů a jazyků\, hrdelního zpěvů\, uhrančivého tance\, magie a především tajemné atmosféry! \nVSTUPNÉ:smsticket do konce srpna – 318 Kčsmsticket předprodej – 421 KčNa místě v den akce – 550 Kč \nNalaďte se: \n\nhttps://open.spotify.com/artist/5YLlSPiJ0oTTwToxWrmNV\nhttps://www.youtube.com/watch?v=WrfXu2F2DCw (staroseverská skladba)\nhttps://www.youtube.com/watch?v=pBnqzfHLOzY (staroegyptská skladba)\n\n\nTento tip na kulturní akci v Praha najdete v přehledu na Dnesnivylet.cz spolu s dalšími koncerty\, festivaly a divadelními představeními.Každý si vybere co se mu líbí. Nezapomeňte koupit vstupenky včas\, stačí kliknout a budete přesměrování na oficiálního prodejce vstupenek.
URL:https://dnesnivylet.cz/event/samhainovy-koncert-nemuer-a-premiera-klipu-repelling-apophis/
LOCATION:Kaštan – Scéna Unijazzu \, Praha\, Kaštan - Scéna Unijazzu \, Praha\, Česká republika
CATEGORIES:Koncert
ATTACH;FMTTYPE=image/jpeg:https://dnesnivylet.cz/wp-content/uploads/2025/10/320-e48e309e646b424e9018f683b8f94b39.jpg
END:VEVENT
BEGIN:VEVENT
DTSTART;TZID=Europe/Prague:20251029T190000
DTEND;TZID=Europe/Prague:20251029T220000
DTSTAMP:20260419T220417
CREATED:20251023T112916Z
LAST-MODIFIED:20251023T112916Z
UID:9767-1761764400-1761775200@dnesnivylet.cz
SUMMARY:Tenkrát na Západě - Grande Moravia Ladislava Pavluše
DESCRIPTION:Tenkrát na Západě – Grande Moravia Ladislava Pavluše se uskuteční dne 2025-10-29 v 19:00 v Kopřivnice\, Kulturní dům. \n🎟️ Koupit vstupenku \n\nTenkrát na západě \nZvuk cimbálu\, který vibruje v hrudi. Hudba\, která se stala legendou. \nDvacetičlenný orchestr Grande Moravia Ladislava Pavluše se svými hosty\, přináší nezapomenutelný večer s mistrovskými díly Ennia Morriconeho. \nThe Ecstasy of Gold\, Once Upon a Time in the West\, Chi Mai\, Deborah’s Theme a další. \nCimbál – srdce orchestru – dodává slavným melodiím nový\, podmanivý rozměr.Večer doplní videoprojekce\, která propojí zvuk s obrazem a oživí magii filmového plátna. \n\nTento tip na kulturní akci v Kopřivnice najdete v přehledu na Dnesnivylet.cz spolu s dalšími koncerty\, festivaly a divadelními představeními.Každý si vybere co se mu líbí. Nezapomeňte koupit vstupenky včas\, stačí kliknout a budete přesměrování na oficiálního prodejce vstupenek.
URL:https://dnesnivylet.cz/event/tenkrat-na-zapade-grande-moravia-ladislava-pavluse-2/
LOCATION:Kulturní dům\, Kopřivnice\, Kulturní dům\, Kopřivnice\, Česká republika
CATEGORIES:Koncert
ATTACH;FMTTYPE=image/jpeg:https://dnesnivylet.cz/wp-content/uploads/2025/10/320-6fa451b8adef4314a0b68c35245f6191.jpg
END:VEVENT
BEGIN:VEVENT
DTSTART;TZID=Europe/Prague:20251027T190000
DTEND;TZID=Europe/Prague:20251027T220000
DTSTAMP:20260419T220417
CREATED:20251023T112916Z
LAST-MODIFIED:20251023T112916Z
UID:9770-1761591600-1761602400@dnesnivylet.cz
SUMMARY:Tenkrát na Západě - Grande Moravia Ladislava Pavluše
DESCRIPTION:Tenkrát na Západě – Grande Moravia Ladislava Pavluše se uskuteční dne 2025-10-27 v 19:00 v Kuřim\, Společenské a kulturní centrum. \n🎟️ Koupit vstupenku \n\nTenkrát na západě \nZvuk cimbálu\, který vibruje v hrudi. Hudba\, která se stala legendou. \nDvacetičlenný orchestr Grande Moravia Ladislava Pavluše se svými hosty\, přináší nezapomenutelný večer s mistrovskými díly Ennia Morriconeho. \nThe Ecstasy of Gold\, Once Upon a Time in the West\, Chi Mai\, Deborah’s Theme a další. \nCimbál – srdce orchestru – dodává slavným melodiím nový\, podmanivý rozměr.Večer doplní videoprojekce\, která propojí zvuk s obrazem a oživí magii filmového plátna \n\nTento tip na kulturní akci v Kuřim najdete v přehledu na Dnesnivylet.cz spolu s dalšími koncerty\, festivaly a divadelními představeními.Každý si vybere co se mu líbí. Nezapomeňte koupit vstupenky včas\, stačí kliknout a budete přesměrování na oficiálního prodejce vstupenek.
URL:https://dnesnivylet.cz/event/tenkrat-na-zapade-grande-moravia-ladislava-pavluse-3/
LOCATION:Společenské a kulturní centrum\, Kuřim\, Společenské a kulturní centrum\, Kuřim\, Česká republika
CATEGORIES:Koncert
ATTACH;FMTTYPE=image/jpeg:https://dnesnivylet.cz/wp-content/uploads/2025/10/320-b1e1d8f8dd5c45f18acd2cba764fd7f4.jpg
END:VEVENT
END:VCALENDAR