BEGIN:VCALENDAR
VERSION:2.0
PRODID:-//www.dnesnivylet.cz                                                                                                                        Tip na výlet pro celou rodinu. - ECPv6.15.13.1//NONSGML v1.0//EN
CALSCALE:GREGORIAN
METHOD:PUBLISH
X-ORIGINAL-URL:https://dnesnivylet.cz
X-WR-CALDESC:Akce na www.dnesnivylet.cz                                                                                                                        Tip na výlet pro celou rodinu.
REFRESH-INTERVAL;VALUE=DURATION:PT1H
X-Robots-Tag:noindex
X-PUBLISHED-TTL:PT1H
BEGIN:VTIMEZONE
TZID:Europe/Prague
BEGIN:DAYLIGHT
TZOFFSETFROM:+0100
TZOFFSETTO:+0200
TZNAME:CEST
DTSTART:20250330T010000
END:DAYLIGHT
BEGIN:STANDARD
TZOFFSETFROM:+0200
TZOFFSETTO:+0100
TZNAME:CET
DTSTART:20251026T010000
END:STANDARD
BEGIN:DAYLIGHT
TZOFFSETFROM:+0100
TZOFFSETTO:+0200
TZNAME:CEST
DTSTART:20260329T010000
END:DAYLIGHT
BEGIN:STANDARD
TZOFFSETFROM:+0200
TZOFFSETTO:+0100
TZNAME:CET
DTSTART:20261025T010000
END:STANDARD
BEGIN:DAYLIGHT
TZOFFSETFROM:+0100
TZOFFSETTO:+0200
TZNAME:CEST
DTSTART:20270328T010000
END:DAYLIGHT
BEGIN:STANDARD
TZOFFSETFROM:+0200
TZOFFSETTO:+0100
TZNAME:CET
DTSTART:20271031T010000
END:STANDARD
END:VTIMEZONE
BEGIN:VEVENT
DTSTART;TZID=Europe/Prague:20260508T170000
DTEND;TZID=Europe/Prague:20260508T200000
DTSTAMP:20260419T131415
CREATED:20260209T193316Z
LAST-MODIFIED:20260209T193316Z
UID:17816-1778259600-1778270400@dnesnivylet.cz
SUMMARY:Zahájení turistické sezóny 2026
DESCRIPTION:Zahájení turistické sezóny 2026 se uskuteční dne 2026-05-08 v 17:00 v Pasohlávky\, Kemp Merkur. \n🎟️ Koupit vstupenku \n\nZahájení turistické sezóny v Kempu Merkur. \nJiž čtvrtstoletí tradičně zahajujeme pod pálavskými vrchy. \nZveme Tebe i celou Tvoji partu nebo rodinu na tradiční start sezóny v Kempu Merkur v Pasohlávkách – víkend plný hudby\, pohody a festivalové atmosféry u lagun na břehu Novomlýnské nádrže.  \nKemp ožije 8.-9.5.2026\, kdy se od 17:00 otevírá areál na akci. Těšit se můžeš např. na ŠKWOR\, DESMOD\, WALDA GANG\, HEL´ENINE OČI\, DOGA\, VERONA a další.  \nPro naše malé hosty máme v sobotu připravený doprovodný program.  \nKemp nabízí komplexní zázemí\, ubytování\, pláže\, vodu\, výlety\, sport i zábavu – vhodné pro partu kamarádů\, rodiny i páry.  \nVše najdeš na jednom místě – spaní\, koncert\, dobré jídlo a pití – v KEMPU MERKUR \nTěšíme se na Tebe na startu sezóny – ať už přijedeš se stanem nebo karavanem\, ubytuješ se v našich villách či apartmánech nebo si jen přijdeš užít hudbu.  \n  \n\nTento tip na kulturní akci v Pasohlávky najdete v přehledu na Dnesnivylet.cz spolu s dalšími koncerty\, festivaly a divadelními představeními.Každý si vybere co se mu líbí. Nezapomeňte koupit vstupenky včas\, stačí kliknout a budete přesměrování na oficiálního prodejce vstupenek.
URL:https://dnesnivylet.cz/event/zahajeni-turisticke-sezony-2026/
LOCATION:Kemp Merkur\, Pasohlávky\, Kemp Merkur\, Pasohlávky\, Česká republika
CATEGORIES:Festival
ATTACH;FMTTYPE=image/jpeg:https://dnesnivylet.cz/wp-content/uploads/2026/02/320-3d51f9d542704e33801576404217d60d.jpg
END:VEVENT
BEGIN:VEVENT
DTSTART;TZID=Europe/Prague:20260508T190000
DTEND;TZID=Europe/Prague:20260508T220000
DTSTAMP:20260419T131415
CREATED:20260106T092029Z
LAST-MODIFIED:20260106T092029Z
UID:16439-1778266800-1778277600@dnesnivylet.cz
SUMMARY:Travestie Cabaret Brno: Divas Show
DESCRIPTION:Travestie Cabaret Brno: Divas Show se uskuteční dne 2026-05-08 v 19:00 v Brno\, Cabaret des Péchés. \n🎟️ Koupit vstupenku \n\n  \nPřipravte se na noc\, která přepíše pravidla travesti show. \nNa scénu přichází unikátní drag & travesti spektákl\, jaký Česko ještě nezažilo. Tři hvězdy české travesti scény – Daina Divad\, Lolla de Schampagne a Ivory Divine – vás vtáhnou do světa proměn\, emocí\, krásy a výbuchu energie. Společně s velkou taneční company rozpoutají večer\, který vás nenechá vydechnout. \nTěšte se na největší hity české i světové pop music\, dechberoucí choreografie a speciální světelné efekty\, které promění prostor Cabaretu des Péchés ve scénu hodnou těch největších divadel a klubových show. \nTravesti. Tanec. Iluze. Emoce.  \nTohle není jen představení. Tohle je zážitek. \n  \nVíce informací: \n  \nTravestie Cabaret Brno je exkluzivní uskupení tří travesti umělkyň. Show je plná humoru\, bohatých kostýmů\, energických vystoupení a osobností populární hudby. Profesionální produkce a dokonalá iluze ženy umocňuje zážitek z perfektně připraveného programu. \nZakladatelky souboru Daina Divad a Lolla de Schampagne jsou na scéně již přes 25 let a dlouhodobě se věnují improvizaci\, ve které jsou pravými mistryněmi. Své dlouholeté zkušenosti využily například na poli divadla\, filmu a během moderování bezpočtu akcí. Dámy od nepaměti vyprodávají řadu podniků\, sálů i divadel – například Divadlo Husa na provázku nebo HaDivadlo. \nIvory Divine je přední brněnská Drag Queen a travesti umělkyně\, která pravidelně vystupuje od roku 2019\, ale tomuto oboru se věnuje již bezmála 15 let. Vedle svého účinkování ve skupině Travestie Cabaret Brno je k vidění také v několika kabaretních programech především v Brně a Praze. \nPři příležitosti vytvoření nové “Divas Show” bylo vybráno několik tanečníků a tanečnic\, spolu s fire / light performerkou\, kteří společně s travesti umělkyněmi tvoří zcela nový koncept show s velmi efektními choreografiemi.  \n  \nDoporučený dresscode – stylový večerní outfit s nádechem glamouru a odvahy\, klidně inspirovaný kabaretem\, dragem či výraznou módou\, ve kterém zazáříte stejně jako samotná show. \nShow je určena výhradně pro publikum starší 18 let – vstup osobám mladším 18 let není povolen \nUpozornění pro divákyTato inscenace obsahuje světelné efekty\, včetně stroboskopických záblesků a rychle se měnících světelných sekvencí. U osob s fotosenzitivní epilepsií nebo zvýšenou citlivostí na intenzivní světelné podněty mohou tyto efekty vyvolat nepříznivé zdravotní reakce. Divákům\, kterých by se tato skutečnost mohla týkat\, se doporučuje zvýšená opatrnost. \n  \n\nTento tip na kulturní akci v Brno najdete v přehledu na Dnesnivylet.cz spolu s dalšími koncerty\, festivaly a divadelními představeními.Každý si vybere co se mu líbí. Nezapomeňte koupit vstupenky včas\, stačí kliknout a budete přesměrování na oficiálního prodejce vstupenek.
URL:https://dnesnivylet.cz/event/travestie-cabaret-brno-divas-show-2/
LOCATION:Cabaret des Péchés\, Brno\, Cabaret des Péchés\, Brno\, Česká republika
CATEGORIES:Zábava
ATTACH;FMTTYPE=image/jpeg:https://dnesnivylet.cz/wp-content/uploads/2026/01/320-8078cdddcb8d4e1b95a06fe6dfff96f5.jpg
END:VEVENT
BEGIN:VEVENT
DTSTART;TZID=Europe/Prague:20260508T203000
DTEND;TZID=Europe/Prague:20260508T233000
DTSTAMP:20260419T131415
CREATED:20260222T142334Z
LAST-MODIFIED:20260222T142335Z
UID:18445-1778272200-1778283000@dnesnivylet.cz
SUMMARY:Images of Love - black light theatre (schwarzlichttheater)
DESCRIPTION:Images of Love – black light theatre (schwarzlichttheater) se uskuteční dne 2026-05-08 v 20:30 v Praha\, HILT black light theatre Prague – Art Space. \n🎟️ Koupit vstupenku \n\nDočasná sleva 100 Kč kód LOV100 (neplatí pro P.Cool Pass) – Temporary discount 100 CZK code LOV100 (not valid for P.Cool Pass) – Temporärer Rabatt 100 CZK Code LOV100 (nicht gültig für P.Cool Pass) – Descuento temporal 100 CZK código LOV100 (no válido para P.Cool Pass)  \n\nHILT black light theatre – Schwarzlichttheater HILT – Teatro negro Praga HILT\nWritten\, directed and choreography: Theodor Hoidekr\nOriginal music: Theodor Hoidekr (original music for HILT black light theatre)\nCopyright music: Coldplay – A sky full of stars\, Sting – Desert rose\, Patrick Swayze – She´s like a wind\, Shakira – Waka waka\, AC/DC – Highway to hell\, Koutev Bulgarian national ensemble – Bre petrunko (HILT black light theatre owns the licence for this music for use in the show Images of Love)\n\nČESKY ↓ ENGLISH ↓ DEUTSCH ↓ ESPANOL \n―cz―*FORMULÁŘ VSTUPENEK POUZE ČESKY A ANGLICKY PŘEPNĚTE V PRAVÉM ROHU NAHOŘE \nČerné divadlo HILT Praha – Images of Love \nLáska je vůdčí světlo\, které nás vede temnotou života. Multimediální představení Images of Love transformuje koncept lásky do fascinujících scén černého divadla\, které diváky zavedou na cestu různými etapami romantiky. Od počáteční jiskry mezi dvěma jednotlivci až po složitost zralého vztahu\, představení zkoumá různé aspekty lásky prostřednictvím podmanivého vizuálního a emocionálního vyprávění. \nNeverbální povaha představení umožňuje univerzální porozumění a zpřístupňuje jej divákům všech věkových kategorií a prostředí. Prostřednictvím kombinace originálních skladeb a světoznámých hitů hudba umocňuje vizuální podívanou a vtahuje diváky hlouběji do děje. Představení také vzdává hold ikonickým písním od umělců jako Shakira\, Sting a Coldplay a také obsahuje mystické ztvárnění bulharské sborové písně. \nImages of Love zve diváky\, aby se ponořili do světa\, kde mohou na vlastní kůži zažít krásu a výzvy lásky. Je to jedinečná příležitost zasmát se\, tančit a cítit celou škálu emocí vedle postav\, což vytváří skutečně interaktivní a nezapomenutelný divadelní zážitek. \n―en―*TICKET FORM ONLY IN CZECH AND ENGLISH SWITCH IN UPPER RIGHT CORNER \nHILT black light theatre Prague – Images of Love \nLove is the guiding light that leads us through the darkness of life. The multimedia performance Images of Love transforms the concept of love into mesmerizing black light theatre scenes that take the audience on a journey through the various stages of romance. From the initial spark between two individuals to the complexity of a mature relationship\, the performance explores the different facets of love through captivating visuals and emotional storytelling. \nThe non-verbal nature of the performance allows for universal understanding\, making it accessible to audiences of all ages and backgrounds. Through a combination of original compositions and world-famous hits\, the music enhances the visual spectacle\, drawing the audience deeper into the story. The performance also pays homage to iconic songs from artists like Shakira\, Sting\, and Coldplay\, as well as featuring a mystical rendition of a Bulgarian choir song. \nImages of Love invites the audience to immerse themselves in a world where they can experience the beauty and challenges of love firsthand. It is a unique opportunity to laugh\, dance\, and feel the full range of emotions alongside the characters\, creating a truly interactive and memorable theatrical experience. \n―de―*TICKETFORMULAR NUR AUF TSCHECHISCH UND ENGLISCH. SCHALTER IN DER OBEREN RECHTEN ECKE \nSchwarzlichttheater Prag HILT – Images of Love \nLiebe ist das Leitlicht\, das uns durch die Dunkelheit des Lebens führt. Die Multimedia-Performance „Images of Love“ verwandelt das Konzept der Liebe in faszinierende Schwarzlichttheater\, die das Publikum auf eine Reise durch die verschiedenen Phasen der Romantik mitnehmen. Von der ersten Funke zwischen zwei Menschen bis hin zur Komplexität einer reifen Beziehung erkundet die Performance die verschiedenen Facetten der Liebe durch fesselnde visuelle Elemente und emotionales Geschichtenerzählen. \nDie nonverbale Natur der Performance ermöglicht ein universelles Verständnis und macht sie für Zuschauer jeden Alters und jeder Herkunft zugänglich. Durch eine Kombination aus Originalkompositionen und weltberühmten Hits verstärkt die Musik das visuelle Spektakel und zieht das Publikum tiefer in die Geschichte hinein. Die Performance ist auch eine Hommage an ikonische Lieder von Künstlern wie Shakira\, Sting und Coldplay und bietet eine mystische Wiedergabe eines bulgarischen Chorlieds. \n„Images of Love“ lädt das Publikum ein\, in eine Welt einzutauchen\, in der es die Schönheit und Herausforderungen der Liebe aus erster Hand erleben kann. Es ist eine einmalige Gelegenheit\, gemeinsam mit den Figuren zu lachen\, zu tanzen und die ganze Bandbreite an Emotionen zu spüren\, wodurch ein wirklich interaktives und unvergessliches Theatererlebnis entsteht. \n―es―*FORMULARIO DE BOLETO SOLO EN CHECO E INGLÉS CAMBIAR EN LA ESQUINA SUPERIOR DERECHA \nTeatro de luz negra Praga HILT (Teatro negro Praga HILT) – Images of Love \nEl amor es la luz que nos guía a través de la oscuridad de la vida. La performance multimedia Images of Love transforma el concepto de amor en fascinantes escenas de teatro con luz negra que llevan al público a un viaje a través de las distintas etapas del romance. Desde la chispa inicial entre dos personas hasta la complejidad de una relación madura\, la performance explora las diferentes facetas del amor a través de imágenes cautivadoras y una narración emotiva. \nLa naturaleza no verbal de la performance permite una comprensión universal\, haciéndola accesible a audiencias de todas las edades y orígenes. A través de una combinación de composiciones originales y éxitos mundialmente famosos\, la música realza el espectáculo visual\, atrayendo al público más profundamente a la historia. La performance también rinde homenaje a canciones icónicas de artistas como Shakira\, Sting y Coldplay\, además de presentar una interpretación mística de una canción de un coro búlgaro. \nImages of Love invita al público a sumergirse en un mundo donde pueden experimentar la belleza y los desafíos del amor de primera mano. Es una oportunidad única para reír\, bailar y sentir toda la gama de emociones junto a los personajes\, creando una experiencia teatral verdaderamente interactiva y memorable. \n\nTento tip na kulturní akci v Praha najdete v přehledu na Dnesnivylet.cz spolu s dalšími koncerty\, festivaly a divadelními představeními.Každý si vybere co se mu líbí. Nezapomeňte koupit vstupenky včas\, stačí kliknout a budete přesměrování na oficiálního prodejce vstupenek.
URL:https://dnesnivylet.cz/event/images-of-love-black-light-theatre-schwarzlichttheater-64/
LOCATION:HILT black light theatre Prague – Art Space\, Praha\, HILT black light theatre Prague - Art Space\, Praha\, Česká republika
CATEGORIES:Divadlo
ATTACH;FMTTYPE=image/jpeg:https://dnesnivylet.cz/wp-content/uploads/2026/02/320-c2cf48a8347146e49a76660a85b242e8.jpg
END:VEVENT
END:VCALENDAR