BEGIN:VCALENDAR
VERSION:2.0
PRODID:-//www.dnesnivylet.cz                                                                                                                        Tip na výlet pro celou rodinu. - ECPv6.15.13.1//NONSGML v1.0//EN
CALSCALE:GREGORIAN
METHOD:PUBLISH
X-WR-CALNAME:www.dnesnivylet.cz                                                                                                                        Tip na výlet pro celou rodinu.
X-ORIGINAL-URL:https://dnesnivylet.cz
X-WR-CALDESC:Akce na www.dnesnivylet.cz                                                                                                                        Tip na výlet pro celou rodinu.
REFRESH-INTERVAL;VALUE=DURATION:PT1H
X-Robots-Tag:noindex
X-PUBLISHED-TTL:PT1H
BEGIN:VTIMEZONE
TZID:Europe/Prague
BEGIN:DAYLIGHT
TZOFFSETFROM:+0100
TZOFFSETTO:+0200
TZNAME:CEST
DTSTART:20250330T010000
END:DAYLIGHT
BEGIN:STANDARD
TZOFFSETFROM:+0200
TZOFFSETTO:+0100
TZNAME:CET
DTSTART:20251026T010000
END:STANDARD
BEGIN:DAYLIGHT
TZOFFSETFROM:+0100
TZOFFSETTO:+0200
TZNAME:CEST
DTSTART:20260329T010000
END:DAYLIGHT
BEGIN:STANDARD
TZOFFSETFROM:+0200
TZOFFSETTO:+0100
TZNAME:CET
DTSTART:20261025T010000
END:STANDARD
BEGIN:DAYLIGHT
TZOFFSETFROM:+0100
TZOFFSETTO:+0200
TZNAME:CEST
DTSTART:20270328T010000
END:DAYLIGHT
BEGIN:STANDARD
TZOFFSETFROM:+0200
TZOFFSETTO:+0100
TZNAME:CET
DTSTART:20271031T010000
END:STANDARD
END:VTIMEZONE
BEGIN:VEVENT
DTSTART;TZID=Europe/Prague:20260522T190000
DTEND;TZID=Europe/Prague:20260522T220000
DTSTAMP:20260419T131253
CREATED:20260106T120414Z
LAST-MODIFIED:20260106T120416Z
UID:16480-1779476400-1779487200@dnesnivylet.cz
SUMMARY:Travesti Divoké kočky v Brně
DESCRIPTION:Travesti Divoké kočky v Brně se uskuteční dne 2026-05-22 v 19:00 v Brno\, Dělnický dům. \n🎟️ Koupit vstupenku \n\nTravesti skupina Divoké kočky z Ostravy přijíždí v rámci svého turné se svým novým programem opět do BRNA\, kde vystoupí 22.5.2026 od 19:00 na sále dělnického domu v Brně-Židenicích.  \nCelovečerní zábavný program je plný nezapomenutelných legračních scének\, písniček\, známých zpěvaček\, krásných kostýmů\, situačního humoru a hlavně smíchu a je vhodný jak pro ženské tak pánské publikum. Jejich vystoupení se těší stálé větší oblibě a tak si každý divák přijde na své. Přijdte se sami přesvědčit\, že na travesti představení není nic špatného a v podání ostravských umělců se budete určitě dobře bavit. \nDivoké kočky jezdí se svým programem do ŽIDENIC pravidelně 2x ročně vždy v květnu a v listopadu již od roku 2010\, a proto se těší opět na úžasné místní publikum\, atmosféru a skvělý večer. Na závěr programu Vám členové souboru ukážou svou pravou tvář. \n\nTento tip na kulturní akci v Brno najdete v přehledu na Dnesnivylet.cz spolu s dalšími koncerty\, festivaly a divadelními představeními.Každý si vybere co se mu líbí. Nezapomeňte koupit vstupenky včas\, stačí kliknout a budete přesměrování na oficiálního prodejce vstupenek.
URL:https://dnesnivylet.cz/event/travesti-divoke-kocky-v-brne-2/
LOCATION:Dělnický dům\, Brno\, Dělnický dům\, Brno\, Česká republika
CATEGORIES:Zábava
ATTACH;FMTTYPE=image/jpeg:https://dnesnivylet.cz/wp-content/uploads/2026/01/320-13a122e3565447338e50fde0b6bc2ab2.jpg
END:VEVENT
BEGIN:VEVENT
DTSTART;TZID=Europe/Prague:20260522T200000
DTEND;TZID=Europe/Prague:20260522T230000
DTSTAMP:20260419T131253
CREATED:20260209T193216Z
LAST-MODIFIED:20260209T193216Z
UID:17800-1779480000-1779490800@dnesnivylet.cz
SUMMARY:She Past Away (TUR)
DESCRIPTION:She Past Away (TUR) se uskuteční dne 2026-05-22 v 20:00 v Brno\, Fléda. \n🎟️ Koupit vstupenku \n\nFor EN scroll down… \nEnergický\, hypnotizující výbuch sentimentální úzkosti skrze nihilistický způsob uvažování. SHE PAST AWAY je dark wave / post-punkové duo\, které tvoří Volkan Caner (zpěv\, kytara) a Doruk Ozturkcan (bicí\, syntezátory). She Past Away experimentuje se starou/novou estetikou syntezátorové hudby ve svých kytarových skladbách a vytvořilo si vlastní zvuk\, přístup a citlivost\, které vyjadřuje minimalistickou poezií zpívanou v turečtině\, která diváky unáší na hustou\, nepřetržitou epickou cestu jak v nahrávkách\, tak při živých vystoupeních. \nShe Past Away vydali kritiky oceněné první EP „Kasvetli Kutlama“ u labelu Remoov v dubnu 2009. Po digitálním vydání debutového alba „Belirdi Gece“ v únoru 2012 podepsala kapela v roce 2013 smlouvu s Fabrika Records a krátce nato vydala „Belirdi Gece“ ve formátu LP. Album\, které obsahuje hity „Rituel“\, „Ruh“ a „Kasvetli Kutlama“\, bylo serverem post-punk.com zařazeno mezi nejlepší alba desetiletí 2010–2019. \nS vydáním svého následujícího alba „Narin Yalnızlık“ v květnu 2015 se duo etablovalo jako jedna z nejvlivnějších a nejúspěšnějších kapel definujících žánr dark-wave a zaznamenalo řadu úspěšných vystoupení po celém světě.  V prosinci 2018 podepsala kapela smlouvu s Metropolis Records a znovu vydala obě alba v Severní Americe.  \nV květnu 2019 potěšila kapela své fanoušky nádherně temným a energickým novým albem „Disko Anksiyete“\, které vyšlo u Metropolis Records a Fabrika Records. \nV květnu 2020 oslavila kapela své desáté výročí remixovým albem „X“\, které obsahuje remixy od Boy Harsher\, The Soft Moon\, Clan of Xymox\, Front 242\, Lebanon Hanover a mnoha dalších. \nV říjnu 2020 vyšlo vůbec první živé studiové album kapely s názvem „Part Time Punks Session“. \n\nTento tip na kulturní akci v Brno najdete v přehledu na Dnesnivylet.cz spolu s dalšími koncerty\, festivaly a divadelními představeními.Každý si vybere co se mu líbí. Nezapomeňte koupit vstupenky včas\, stačí kliknout a budete přesměrování na oficiálního prodejce vstupenek.
URL:https://dnesnivylet.cz/event/she-past-away-tur/
LOCATION:Fléda\, Brno\, Fléda\, Brno\, Česká republika
CATEGORIES:Koncert
ATTACH;FMTTYPE=image/jpeg:https://dnesnivylet.cz/wp-content/uploads/2026/02/320-6be464794b4c4558bec54701fccdaab9.jpg
END:VEVENT
BEGIN:VEVENT
DTSTART;TZID=Europe/Prague:20260522T203000
DTEND;TZID=Europe/Prague:20260522T233000
DTSTAMP:20260419T131253
CREATED:20260222T142434Z
LAST-MODIFIED:20260222T142435Z
UID:18463-1779481800-1779492600@dnesnivylet.cz
SUMMARY:Images of Love - black light theatre (schwarzlichttheater)
DESCRIPTION:Images of Love – black light theatre (schwarzlichttheater) se uskuteční dne 2026-05-22 v 20:30 v Praha\, HILT black light theatre Prague – Art Space. \n🎟️ Koupit vstupenku \n\nDočasná sleva 100 Kč kód LOV100 (neplatí pro P.Cool Pass) – Temporary discount 100 CZK code LOV100 (not valid for P.Cool Pass) – Temporärer Rabatt 100 CZK Code LOV100 (nicht gültig für P.Cool Pass) – Descuento temporal 100 CZK código LOV100 (no válido para P.Cool Pass)  \n\nHILT black light theatre – Schwarzlichttheater HILT – Teatro negro Praga HILT\nWritten\, directed and choreography: Theodor Hoidekr\nOriginal music: Theodor Hoidekr (original music for HILT black light theatre)\nCopyright music: Coldplay – A sky full of stars\, Sting – Desert rose\, Patrick Swayze – She´s like a wind\, Shakira – Waka waka\, AC/DC – Highway to hell\, Koutev Bulgarian national ensemble – Bre petrunko (HILT black light theatre owns the licence for this music for use in the show Images of Love)\n\nČESKY ↓ ENGLISH ↓ DEUTSCH ↓ ESPANOL \n―cz―*FORMULÁŘ VSTUPENEK POUZE ČESKY A ANGLICKY PŘEPNĚTE V PRAVÉM ROHU NAHOŘE \nČerné divadlo HILT Praha – Images of Love \nLáska je vůdčí světlo\, které nás vede temnotou života. Multimediální představení Images of Love transformuje koncept lásky do fascinujících scén černého divadla\, které diváky zavedou na cestu různými etapami romantiky. Od počáteční jiskry mezi dvěma jednotlivci až po složitost zralého vztahu\, představení zkoumá různé aspekty lásky prostřednictvím podmanivého vizuálního a emocionálního vyprávění. \nNeverbální povaha představení umožňuje univerzální porozumění a zpřístupňuje jej divákům všech věkových kategorií a prostředí. Prostřednictvím kombinace originálních skladeb a světoznámých hitů hudba umocňuje vizuální podívanou a vtahuje diváky hlouběji do děje. Představení také vzdává hold ikonickým písním od umělců jako Shakira\, Sting a Coldplay a také obsahuje mystické ztvárnění bulharské sborové písně. \nImages of Love zve diváky\, aby se ponořili do světa\, kde mohou na vlastní kůži zažít krásu a výzvy lásky. Je to jedinečná příležitost zasmát se\, tančit a cítit celou škálu emocí vedle postav\, což vytváří skutečně interaktivní a nezapomenutelný divadelní zážitek. \n―en―*TICKET FORM ONLY IN CZECH AND ENGLISH SWITCH IN UPPER RIGHT CORNER \nHILT black light theatre Prague – Images of Love \nLove is the guiding light that leads us through the darkness of life. The multimedia performance Images of Love transforms the concept of love into mesmerizing black light theatre scenes that take the audience on a journey through the various stages of romance. From the initial spark between two individuals to the complexity of a mature relationship\, the performance explores the different facets of love through captivating visuals and emotional storytelling. \nThe non-verbal nature of the performance allows for universal understanding\, making it accessible to audiences of all ages and backgrounds. Through a combination of original compositions and world-famous hits\, the music enhances the visual spectacle\, drawing the audience deeper into the story. The performance also pays homage to iconic songs from artists like Shakira\, Sting\, and Coldplay\, as well as featuring a mystical rendition of a Bulgarian choir song. \nImages of Love invites the audience to immerse themselves in a world where they can experience the beauty and challenges of love firsthand. It is a unique opportunity to laugh\, dance\, and feel the full range of emotions alongside the characters\, creating a truly interactive and memorable theatrical experience. \n―de―*TICKETFORMULAR NUR AUF TSCHECHISCH UND ENGLISCH. SCHALTER IN DER OBEREN RECHTEN ECKE \nSchwarzlichttheater Prag HILT – Images of Love \nLiebe ist das Leitlicht\, das uns durch die Dunkelheit des Lebens führt. Die Multimedia-Performance „Images of Love“ verwandelt das Konzept der Liebe in faszinierende Schwarzlichttheater\, die das Publikum auf eine Reise durch die verschiedenen Phasen der Romantik mitnehmen. Von der ersten Funke zwischen zwei Menschen bis hin zur Komplexität einer reifen Beziehung erkundet die Performance die verschiedenen Facetten der Liebe durch fesselnde visuelle Elemente und emotionales Geschichtenerzählen. \nDie nonverbale Natur der Performance ermöglicht ein universelles Verständnis und macht sie für Zuschauer jeden Alters und jeder Herkunft zugänglich. Durch eine Kombination aus Originalkompositionen und weltberühmten Hits verstärkt die Musik das visuelle Spektakel und zieht das Publikum tiefer in die Geschichte hinein. Die Performance ist auch eine Hommage an ikonische Lieder von Künstlern wie Shakira\, Sting und Coldplay und bietet eine mystische Wiedergabe eines bulgarischen Chorlieds. \n„Images of Love“ lädt das Publikum ein\, in eine Welt einzutauchen\, in der es die Schönheit und Herausforderungen der Liebe aus erster Hand erleben kann. Es ist eine einmalige Gelegenheit\, gemeinsam mit den Figuren zu lachen\, zu tanzen und die ganze Bandbreite an Emotionen zu spüren\, wodurch ein wirklich interaktives und unvergessliches Theatererlebnis entsteht. \n―es―*FORMULARIO DE BOLETO SOLO EN CHECO E INGLÉS CAMBIAR EN LA ESQUINA SUPERIOR DERECHA \nTeatro de luz negra Praga HILT (Teatro negro Praga HILT) – Images of Love \nEl amor es la luz que nos guía a través de la oscuridad de la vida. La performance multimedia Images of Love transforma el concepto de amor en fascinantes escenas de teatro con luz negra que llevan al público a un viaje a través de las distintas etapas del romance. Desde la chispa inicial entre dos personas hasta la complejidad de una relación madura\, la performance explora las diferentes facetas del amor a través de imágenes cautivadoras y una narración emotiva. \nLa naturaleza no verbal de la performance permite una comprensión universal\, haciéndola accesible a audiencias de todas las edades y orígenes. A través de una combinación de composiciones originales y éxitos mundialmente famosos\, la música realza el espectáculo visual\, atrayendo al público más profundamente a la historia. La performance también rinde homenaje a canciones icónicas de artistas como Shakira\, Sting y Coldplay\, además de presentar una interpretación mística de una canción de un coro búlgaro. \nImages of Love invita al público a sumergirse en un mundo donde pueden experimentar la belleza y los desafíos del amor de primera mano. Es una oportunidad única para reír\, bailar y sentir toda la gama de emociones junto a los personajes\, creando una experiencia teatral verdaderamente interactiva y memorable. \n\nTento tip na kulturní akci v Praha najdete v přehledu na Dnesnivylet.cz spolu s dalšími koncerty\, festivaly a divadelními představeními.Každý si vybere co se mu líbí. Nezapomeňte koupit vstupenky včas\, stačí kliknout a budete přesměrování na oficiálního prodejce vstupenek.
URL:https://dnesnivylet.cz/event/images-of-love-black-light-theatre-schwarzlichttheater-69/
LOCATION:HILT black light theatre Prague – Art Space\, Praha\, HILT black light theatre Prague - Art Space\, Praha\, Česká republika
CATEGORIES:Divadlo
ATTACH;FMTTYPE=image/jpeg:https://dnesnivylet.cz/wp-content/uploads/2026/02/320-4ad247d7f54d48cbaf2c3d1292fd6c94.jpg
END:VEVENT
BEGIN:VEVENT
DTSTART;TZID=Europe/Prague:20260522T210000
DTEND;TZID=Europe/Prague:20260523T000000
DTSTAMP:20260419T131253
CREATED:20260206T110316Z
LAST-MODIFIED:20260206T110316Z
UID:17394-1779483600-1779494400@dnesnivylet.cz
SUMMARY:Tenkrát na Západě 2\, Koncert filmové hudby s iluminacemi
DESCRIPTION:Tenkrát na Západě 2\, Koncert filmové hudby s iluminacemi se uskuteční dne 2026-05-22 v 21:00 v Brno\, Červený kostel. \n🎟️ Koupit vstupenku \n\nTenkrát na Západě 2 – koncert Moravského klavírního tria se světelnými iluminacemi \nZveme Vás na nezapomenutelný večer plný ikonických melodií z oblíbených filmů! \nNejznámější filmoví hrdinové ožijí ve velkolepě osvětleném magickém Červeném kostele. \nMimo Tenkrát na Západě Vás čekají další úžasné filmové hity. \n\nTento tip na kulturní akci v Brno najdete v přehledu na Dnesnivylet.cz spolu s dalšími koncerty\, festivaly a divadelními představeními.Každý si vybere co se mu líbí. Nezapomeňte koupit vstupenky včas\, stačí kliknout a budete přesměrování na oficiálního prodejce vstupenek.
URL:https://dnesnivylet.cz/event/tenkrat-na-zapade-2-koncert-filmove-hudby-s-iluminacemi/
LOCATION:Červený kostel\, Brno\, Červený kostel\, Brno\, Česká republika
CATEGORIES:Koncert
ATTACH;FMTTYPE=image/jpeg:https://dnesnivylet.cz/wp-content/uploads/2026/02/320-8897adb8016a48249236110181ef55c2.jpg
END:VEVENT
END:VCALENDAR