BEGIN:VCALENDAR
VERSION:2.0
PRODID:-//www.dnesnivylet.cz                                                                                                                        Tip na výlet pro celou rodinu. - ECPv6.15.13.1//NONSGML v1.0//EN
CALSCALE:GREGORIAN
METHOD:PUBLISH
X-WR-CALNAME:www.dnesnivylet.cz                                                                                                                        Tip na výlet pro celou rodinu.
X-ORIGINAL-URL:https://dnesnivylet.cz
X-WR-CALDESC:Akce na www.dnesnivylet.cz                                                                                                                        Tip na výlet pro celou rodinu.
REFRESH-INTERVAL;VALUE=DURATION:PT1H
X-Robots-Tag:noindex
X-PUBLISHED-TTL:PT1H
BEGIN:VTIMEZONE
TZID:Europe/Prague
BEGIN:DAYLIGHT
TZOFFSETFROM:+0100
TZOFFSETTO:+0200
TZNAME:CEST
DTSTART:20250330T010000
END:DAYLIGHT
BEGIN:STANDARD
TZOFFSETFROM:+0200
TZOFFSETTO:+0100
TZNAME:CET
DTSTART:20251026T010000
END:STANDARD
BEGIN:DAYLIGHT
TZOFFSETFROM:+0100
TZOFFSETTO:+0200
TZNAME:CEST
DTSTART:20260329T010000
END:DAYLIGHT
BEGIN:STANDARD
TZOFFSETFROM:+0200
TZOFFSETTO:+0100
TZNAME:CET
DTSTART:20261025T010000
END:STANDARD
BEGIN:DAYLIGHT
TZOFFSETFROM:+0100
TZOFFSETTO:+0200
TZNAME:CEST
DTSTART:20270328T010000
END:DAYLIGHT
BEGIN:STANDARD
TZOFFSETFROM:+0200
TZOFFSETTO:+0100
TZNAME:CET
DTSTART:20271031T010000
END:STANDARD
END:VTIMEZONE
BEGIN:VEVENT
DTSTART;TZID=Europe/Prague:20260620T120000
DTEND;TZID=Europe/Prague:20260620T150000
DTSTAMP:20260419T212744
CREATED:20260208T144907Z
LAST-MODIFIED:20260208T144908Z
UID:17667-1781956800-1781967600@dnesnivylet.cz
SUMMARY:Březfest – Hard Open Air Jihlava\, Březinovy Sady
DESCRIPTION:Březfest – Hard Open Air Jihlava\, Březinovy Sady se uskuteční dne 2026-06-20 v 12:00 v Jihlava\, Amfiteátr. \n🎟️ Koupit vstupenku \n\nBřezfest není jen festival – je to komunita\, prostor pro svobodu projevu a scénický zážitek\, kde se hudba propojuje s vizuálním uměním. Atmosféra pod širým nebem\, řinčení nástrojů\, energie publika a extáze z vystoupení tvoří jádro tohoto jedinečného dne. \nNa pódiu se představí legendární XIII Století\, zahraniční hvězdy Induction (DE)\, In Sanity (DE)\, Moyra (PL) a domácí stálice Dark Gamballe. Program doplní další kapely\, které společně vytvoří pestrý mix od gothic rocku po moderní metal. \nČeká vás hudba\, která se neprožívá jen ušima\, ale celým tělem. Festivalová atmosféra s občerstvením\, pivem\, drinky a stánky s merchem. Trh s CD a vinylovými deskami\, doprovodný program a vizuální show. \n\nBřezfest II – zažijte energii\, vášeň a sílu tvrdé hudby v srdci Vysočiny!\n\n\nTento tip na kulturní akci v Jihlava najdete v přehledu na Dnesnivylet.cz spolu s dalšími koncerty\, festivaly a divadelními představeními.Každý si vybere co se mu líbí. Nezapomeňte koupit vstupenky včas\, stačí kliknout a budete přesměrování na oficiálního prodejce vstupenek.
URL:https://dnesnivylet.cz/event/brezfest-hard-open-air-jihlava-brezinovy-sady/
LOCATION:Amfiteátr\, Jihlava\, Amfiteátr\, Jihlava\, Česká republika
CATEGORIES:Festival
ATTACH;FMTTYPE=image/jpeg:https://dnesnivylet.cz/wp-content/uploads/2026/02/320-0ad1e3cb0de24139bc5c6b5321f82f38.jpg
END:VEVENT
BEGIN:VEVENT
DTSTART;TZID=Europe/Prague:20260620T130000
DTEND;TZID=Europe/Prague:20260620T160000
DTSTAMP:20260419T212744
CREATED:20260209T193216Z
LAST-MODIFIED:20260209T193217Z
UID:17803-1781960400-1781971200@dnesnivylet.cz
SUMMARY:Ostravská Country Fontána
DESCRIPTION:Ostravská Country Fontána se uskuteční dne 2026-06-20 v 13:00 v Děhylov\, Děhylov – areál Loděnice. \n🎟️ Koupit vstupenku \n\n\nOstravská Country Fontána již podruhé v areálu  Loděnice Děhylov v malebném prostředí  přímo na břehu řeky Opavy.\nCountry Fontána bude opět žánrově hodně pestrá!\n\nNa Ostravské Country Fontáně 2026 vystoupí: \n\nVĚRA MARTINOVÁ\nNEREZ a LUCIA\nSPIRITUÁL KVARTET\nTOMÁŠ LINKA a PŘÍMÁ LINKA\nHONZA NEDVĚD ml. a PŘÍBUZNÍ\nEPYDEMYE\nNOVÉ STRUNY\na vítěž soutěže „Talent Country radia“\n\nPODROBNÉ INFORMACE K FESTIVALU NAJDETE ZDE:  \nhttps://www.lodenice.com/country-fontana/ \n\nTento tip na kulturní akci v Děhylov najdete v přehledu na Dnesnivylet.cz spolu s dalšími koncerty\, festivaly a divadelními představeními.Každý si vybere co se mu líbí. Nezapomeňte koupit vstupenky včas\, stačí kliknout a budete přesměrování na oficiálního prodejce vstupenek.
URL:https://dnesnivylet.cz/event/ostravska-country-fontana/
LOCATION:Děhylov – areál Loděnice\, Děhylov\, Děhylov - areál Loděnice\, Děhylov\, Česká republika
CATEGORIES:Festival
ATTACH;FMTTYPE=image/jpeg:https://dnesnivylet.cz/wp-content/uploads/2026/02/320-5817841db36249c1899fe03f3c498945.jpg
END:VEVENT
BEGIN:VEVENT
DTSTART;TZID=Europe/Prague:20260620T193000
DTEND;TZID=Europe/Prague:20260620T223000
DTSTAMP:20260419T212744
CREATED:20260121T193853Z
LAST-MODIFIED:20260121T193854Z
UID:16912-1781983800-1781994600@dnesnivylet.cz
SUMMARY:Rangers - Plavci " Original "
DESCRIPTION:Rangers – Plavci “ Original „ se uskuteční dne 2026-06-20 v 19:30 v Hradec Králové\, Letní areál U Letců. \n🎟️ Koupit vstupenku \n\nRangers / Plavci jsou česká hudební skupina\, jedna z nejvýznamnějších v rámci českého folku a country. Byla založena v roce 1964\, na přelomu 20. a 21. století z ní vzešlo několik nástupnických kapel s různě odvozenými názvy. \nHistorie skupiny \nVznik \nPůvodním základem pozdějších Rangers byla country-westernová kapela Hillbilly Western\,[1] kterou roku 1963 založili kytarista a flétnista Milan Dufek\, bendžista Pavel Fáček a basista Antonín Hájek\, spolužáci ze strojní fakulty ČVUT. Roku 1964 se přejmenovali na The Rangers a přidali se k nim houslista Jiří Veisser\, bubeník Jiří Hájek (s A. Hájkem nepříbuzný) a nakrátko ještě kytarista Jiří Haller. Ještě toho roku Fáček přivedl do kapely Mirka Řihoška a Jana Vančuru (do té doby v gymnaziální kapele „Řihošvanč Beat“)\, sám ale zanedlouho z Rangers odešel a bendžo po něm převzal Řihošek. Roku 1965 kapela provedla ve Vinohradské sokolovně svůj první větší koncert\, tehdy za honorář v podobě piva a párku.[2][3][4] \nBudování popularity \nTato první klasická sestava se zkompletovala roku 1966 příchodem kytaristy Radka Tomáška a zpěvačky Jarky Hadrabové\, zároveň ale odchází bubeník J. Hájek. Téhož roku začali pravidelně vystupovat v SAKSu v budově ČVUT v Praze na Karlově náměstí\, jejich prvním konferenciérem byl Mirek Černý. V roce 1967 se účastnili první Porty\, kterou hned vyhráli a totéž zopakovali i v následujícím roce\, kdy M. Černého na moderátorském postu posílil jeho kolega Petr Nárožný. S těmito úspěchy přišla první nabídka na natočení LP od vydavatelství Panton. \nV roce 1969 skupina získala ocenění pro nejúspěšnější skupinu roku na 1. Festivalu Country + Western v Praze. Toho roku ji ale opustila Jarka Hadrabová\, která přešla ke Spirituál kvintetu. Rangers pak už žádnou další stálou zpěvačku neangažovali\, vysoké pěvecké party nadále obstarával Jan Vančura.[2][3] \nNormalizace \nRoku 1970 Rangers prodali svůj první milion gramofonových desek a v Divadle E. F. Buriana pořídili první živé album\, moderované Petrem Nárožným a Mirkem Černým. \nKrátce poté upozornila smluvní agentura Pragokoncert\, že název skupiny připomíná pojmenování americké vojenské jednotky U.S. Army Rangers\, což je v době přetrvávající války ve Vietnamu nežádoucí\, a že skupině s takovým názvem nebudou organizovat koncerty. V roce 1971 tak skupina přijala nový název Plavci (zvolený podle jedné jejich starší písně)[1] a pro následující dekády se stala protagonistou normalizační popmusic folkového rázu. \nV roce 1973 skupinu opustil Radek Tomášek. Téhož roku odešel Petr Nárožný do divadla Semafor a na moderátorské pozici ho nahradil Luděk Nekuda\, kterého roku 1974 vystřídala dvojice Jan Vala – Jiří Wimmer. Roku 1976 se Nekuda opět vrátil a vystupoval s Rangers až do roku 1978.[5] \nV roce 1974 začala skupina účinkovat i v zámoří\, podnikli turné do Argentiny (vystoupili v Buenos Aires) a na Kubu. V tomto trendu pokračovali celá 70. léta\, která jsou také vrcholem kariéry této skupiny. V roce 1980 skupinu obohatili noví mladší členové Jiří Kaleš a Jiří Jirásek. V roce 1987 pro rodinné povinnosti skupinu opustil zpěvák Jan Vančura a na jeho místo nastoupil zpívající bubeník Luboš Řehák. V následujícím roce se znovu vydali do Jižní Ameriky\, přičemž 14x vystoupili v São Paulu. \nV roce 1989 skupinu postihla těžká rána\, když po těžké nemoci zemřel kapelník a zakladatel skupiny Antonín Hájek. \nPo roce 1989 \nPo pádu komunistického režimu se skupina ihned vrátila k původnímu názvu Rangers a v repertoáru k hitům z přelomu 60. a 70. let\, do skupiny také přišel nový baskytarista a zpěvák Jan Podjukl. V roce 1994 se poprvé vydali na koncertní zájezd do Spojených států amerických a Kanady\, zároveň získali platinovou desku za dva miliony prodaných nosičů. O tři roky později koncertovali v Austrálii a rok na to získali další platinovou desku. Pro neshody s agenturou odešel v roce 1998 ze skupiny Jiří Veisser\, na jehož místo nastoupil Max Presser. \nV následujícím roce se do skupiny vrátil Jan Vančura\, zprvu jako host\, později se stal plnohodnotným členem. V roce 2005 se skupina potřetí vydala do Jižní Ameriky\, tentokrát do Kolumbie. Během tohoto zájezdu při potápění tragicky zahynul Milan Dufek. \n\nTento tip na kulturní akci v Hradec Králové najdete v přehledu na Dnesnivylet.cz spolu s dalšími koncerty\, festivaly a divadelními představeními.Každý si vybere co se mu líbí. Nezapomeňte koupit vstupenky včas\, stačí kliknout a budete přesměrování na oficiálního prodejce vstupenek.
URL:https://dnesnivylet.cz/event/rangers-plavci-original/
LOCATION:Letní areál U Letců\, Hradec Králové\, Letní areál U Letců\, Hradec Králové\, Česká republika
CATEGORIES:Koncert
ATTACH;FMTTYPE=image/jpeg:https://dnesnivylet.cz/wp-content/uploads/2026/01/320-077ee8730653412f8b9cf88f79531972.jpg
END:VEVENT
END:VCALENDAR