BEGIN:VCALENDAR
VERSION:2.0
PRODID:-//www.dnesnivylet.cz                                                                                                                        Tip na výlet pro celou rodinu. - ECPv6.15.13.1//NONSGML v1.0//EN
CALSCALE:GREGORIAN
METHOD:PUBLISH
X-WR-CALNAME:www.dnesnivylet.cz                                                                                                                        Tip na výlet pro celou rodinu.
X-ORIGINAL-URL:https://dnesnivylet.cz
X-WR-CALDESC:Akce na www.dnesnivylet.cz                                                                                                                        Tip na výlet pro celou rodinu.
REFRESH-INTERVAL;VALUE=DURATION:PT1H
X-Robots-Tag:noindex
X-PUBLISHED-TTL:PT1H
BEGIN:VTIMEZONE
TZID:Europe/Prague
BEGIN:DAYLIGHT
TZOFFSETFROM:+0100
TZOFFSETTO:+0200
TZNAME:CEST
DTSTART:20250330T010000
END:DAYLIGHT
BEGIN:STANDARD
TZOFFSETFROM:+0200
TZOFFSETTO:+0100
TZNAME:CET
DTSTART:20251026T010000
END:STANDARD
BEGIN:DAYLIGHT
TZOFFSETFROM:+0100
TZOFFSETTO:+0200
TZNAME:CEST
DTSTART:20260329T010000
END:DAYLIGHT
BEGIN:STANDARD
TZOFFSETFROM:+0200
TZOFFSETTO:+0100
TZNAME:CET
DTSTART:20261025T010000
END:STANDARD
BEGIN:DAYLIGHT
TZOFFSETFROM:+0100
TZOFFSETTO:+0200
TZNAME:CEST
DTSTART:20270328T010000
END:DAYLIGHT
BEGIN:STANDARD
TZOFFSETFROM:+0200
TZOFFSETTO:+0100
TZNAME:CET
DTSTART:20271031T010000
END:STANDARD
END:VTIMEZONE
BEGIN:VEVENT
DTSTART;TZID=Europe/Prague:20260708T200000
DTEND;TZID=Europe/Prague:20260708T230000
DTSTAMP:20260419T212740
CREATED:20260110T163430Z
LAST-MODIFIED:20260110T163431Z
UID:16630-1783540800-1783551600@dnesnivylet.cz
SUMMARY:Václav Noid Bárta na zámku Sychrov
DESCRIPTION:Václav Noid Bárta na zámku Sychrov se uskuteční dne 2026-07-08 v 20:00 v Sychrov\, Zámek Sychrov. \n🎟️ Koupit vstupenku \n\nVáclav NOID Bárta na zámku Sychrov! \nNa zámek Sychrov míří aktuální Zlatý slavík – Václav Noid Bárta. Jeho výrazný hlas\, přirozená energie a silné charisma budou hlavními prvky večera\, který nabídne nezapomenutelnou atmosféru v podání jednoho z nejvýraznějších interpretů současné české hudební scény. \nOd prvních kroků s kapelami Dolores Clan\, Noid Crew a Dymytry\, přes divadelní svět muzikálů až po jeho současnou sólovou tvorbu. Přijďte si projít dvacetiletou hudební cestu Václava NOIDA Bárty – charizmatického zpěváka\, autora filmové hudby a jedinečného hlasu české hudební scény. \nNa co se můžete těšit?Během večera zazní jak jeho autorské skladby\, tak i oblíbené převzaté songy\, které skvěle doplní energii a atmosféru celého koncertu. Tento výjimečný večer přinese nálož skvělé muziky\, pohody a neuvěřitelné energie\, která vás strhne! \nZažijte hudební show\, na kterou se nezapomíná! \n\nTento tip na kulturní akci v Sychrov najdete v přehledu na Dnesnivylet.cz spolu s dalšími koncerty\, festivaly a divadelními představeními.Každý si vybere co se mu líbí. Nezapomeňte koupit vstupenky včas\, stačí kliknout a budete přesměrování na oficiálního prodejce vstupenek.
URL:https://dnesnivylet.cz/event/vaclav-noid-barta-na-zamku-sychrov/
LOCATION:Zámek Sychrov\, Sychrov\, Zámek Sychrov\, Sychrov\, Česká republika
CATEGORIES:Koncert
ATTACH;FMTTYPE=image/jpeg:https://dnesnivylet.cz/wp-content/uploads/2026/01/320-fa0a882fd17c449086b54c291af38a7f.jpg
END:VEVENT
END:VCALENDAR