BEGIN:VCALENDAR
VERSION:2.0
PRODID:-//www.dnesnivylet.cz                                                                                                                        Tip na výlet pro celou rodinu. - ECPv6.15.13.1//NONSGML v1.0//EN
CALSCALE:GREGORIAN
METHOD:PUBLISH
X-WR-CALNAME:www.dnesnivylet.cz                                                                                                                        Tip na výlet pro celou rodinu.
X-ORIGINAL-URL:https://dnesnivylet.cz
X-WR-CALDESC:Akce na www.dnesnivylet.cz                                                                                                                        Tip na výlet pro celou rodinu.
REFRESH-INTERVAL;VALUE=DURATION:PT1H
X-Robots-Tag:noindex
X-PUBLISHED-TTL:PT1H
BEGIN:VTIMEZONE
TZID:Europe/Prague
BEGIN:DAYLIGHT
TZOFFSETFROM:+0100
TZOFFSETTO:+0200
TZNAME:CEST
DTSTART:20250330T010000
END:DAYLIGHT
BEGIN:STANDARD
TZOFFSETFROM:+0200
TZOFFSETTO:+0100
TZNAME:CET
DTSTART:20251026T010000
END:STANDARD
BEGIN:DAYLIGHT
TZOFFSETFROM:+0100
TZOFFSETTO:+0200
TZNAME:CEST
DTSTART:20260329T010000
END:DAYLIGHT
BEGIN:STANDARD
TZOFFSETFROM:+0200
TZOFFSETTO:+0100
TZNAME:CET
DTSTART:20261025T010000
END:STANDARD
BEGIN:DAYLIGHT
TZOFFSETFROM:+0100
TZOFFSETTO:+0200
TZNAME:CEST
DTSTART:20270328T010000
END:DAYLIGHT
BEGIN:STANDARD
TZOFFSETFROM:+0200
TZOFFSETTO:+0100
TZNAME:CET
DTSTART:20271031T010000
END:STANDARD
END:VTIMEZONE
BEGIN:VEVENT
DTSTART;TZID=Europe/Prague:20260718T140000
DTEND;TZID=Europe/Prague:20260718T170000
DTSTAMP:20260419T154558
CREATED:20260209T193111Z
LAST-MODIFIED:20260209T193112Z
UID:17793-1784383200-1784394000@dnesnivylet.cz
SUMMARY:Mikulovský Prosecco Festival
DESCRIPTION:Mikulovský Prosecco Festival se uskuteční dne 2026-07-18 v 14:00 v Mikulov\, Zámek Mikulov. \n🎟️ Koupit vstupenku \n\nNa 18.7. pro vás chystáme v krásném venkovním prostředí zámku Mikulov nultý ročník Mikulovského Prosecco Festivalu! 🥂 \nČeká vás příjemné letní odpoledne plné bublin a šumivého vína z oblasti Valdobbiadene\, skvělé gastronomické zážitky od místních podniků 🧀 a bohatý doprovodný program – škola sabrage\, moderátoři a hudební vystoupení řady muzikantů a DJs. 🎵 \nFestival proběhne v zámecké zahradě s kouzelným výhledem na Svatý kopeček 😍 \nSledujte tuto událost – postupně budeme odhalovat další informace! \nVstupenky zakoupíte exkluzivně v síti smsticket.cz ☝️ \n▌Mikulovský Prosecco Festival▌So. 18.7.2026▌Zámek Mikulov (Zámecká zahrada)▌Začátek 14:00   \n\nTento tip na kulturní akci v Mikulov najdete v přehledu na Dnesnivylet.cz spolu s dalšími koncerty\, festivaly a divadelními představeními.Každý si vybere co se mu líbí. Nezapomeňte koupit vstupenky včas\, stačí kliknout a budete přesměrování na oficiálního prodejce vstupenek.
URL:https://dnesnivylet.cz/event/mikulovsky-prosecco-festival/
LOCATION:Zámek Mikulov\, Mikulov\, Zámek Mikulov\, Mikulov\, Česká republika
CATEGORIES:Festival
ATTACH;FMTTYPE=image/jpeg:https://dnesnivylet.cz/wp-content/uploads/2026/02/320-608cbab6efe74b9ca942ab2961fea868.jpg
END:VEVENT
BEGIN:VEVENT
DTSTART;TZID=Europe/Prague:20260718T193000
DTEND;TZID=Europe/Prague:20260718T223000
DTSTAMP:20260419T154558
CREATED:20260121T193852Z
LAST-MODIFIED:20260121T193853Z
UID:16909-1784403000-1784413800@dnesnivylet.cz
SUMMARY:Odyssea  +  Geronimo
DESCRIPTION:Odyssea  +  Geronimo se uskuteční dne 2026-07-18 v 19:30 v Hradec Králové\, Letní areál U Letců. \n🎟️ Koupit vstupenku \n\nOdyssea je dynamická hudební skupina\, která propojuje tradiční české folkové kořeny s moderními prvky world music. Jejich nezaměnitelný zvuk charakterizují vícehlasé vokály\, propracované instrumentální aranže a poetické texty odrážející životní cesty a příběhy. Kapela\, působící na české hudební scéně již řadu let\, si získala věrnou fanouškovskou základnu díky energickým živým vystoupením a autentickému projevu. Odyssea pravidelně koncertuje na festivalech\, v klubech i divadlech po celé České republice\, přinášející posluchačům hudební zážitek plný emocí a melodií\, které rezonují dlouho po odchodu z koncertu. \nJako host vystoupí kapela Geronimo rock. \n\nTento tip na kulturní akci v Hradec Králové najdete v přehledu na Dnesnivylet.cz spolu s dalšími koncerty\, festivaly a divadelními představeními.Každý si vybere co se mu líbí. Nezapomeňte koupit vstupenky včas\, stačí kliknout a budete přesměrování na oficiálního prodejce vstupenek.
URL:https://dnesnivylet.cz/event/odyssea-geronimo/
LOCATION:Letní areál U Letců\, Hradec Králové\, Letní areál U Letců\, Hradec Králové\, Česká republika
CATEGORIES:Koncert
ATTACH;FMTTYPE=image/jpeg:https://dnesnivylet.cz/wp-content/uploads/2026/01/320-d21e2e4c11474603b89f591429fc77af.jpg
END:VEVENT
END:VCALENDAR