BEGIN:VCALENDAR
VERSION:2.0
PRODID:-//www.dnesnivylet.cz                                                                                                                        Tip na výlet pro celou rodinu. - ECPv6.15.13.1//NONSGML v1.0//EN
CALSCALE:GREGORIAN
METHOD:PUBLISH
X-WR-CALNAME:www.dnesnivylet.cz                                                                                                                        Tip na výlet pro celou rodinu.
X-ORIGINAL-URL:https://dnesnivylet.cz
X-WR-CALDESC:Akce na www.dnesnivylet.cz                                                                                                                        Tip na výlet pro celou rodinu.
REFRESH-INTERVAL;VALUE=DURATION:PT1H
X-Robots-Tag:noindex
X-PUBLISHED-TTL:PT1H
BEGIN:VTIMEZONE
TZID:Europe/Prague
BEGIN:DAYLIGHT
TZOFFSETFROM:+0100
TZOFFSETTO:+0200
TZNAME:CEST
DTSTART:20250330T010000
END:DAYLIGHT
BEGIN:STANDARD
TZOFFSETFROM:+0200
TZOFFSETTO:+0100
TZNAME:CET
DTSTART:20251026T010000
END:STANDARD
BEGIN:DAYLIGHT
TZOFFSETFROM:+0100
TZOFFSETTO:+0200
TZNAME:CEST
DTSTART:20260329T010000
END:DAYLIGHT
BEGIN:STANDARD
TZOFFSETFROM:+0200
TZOFFSETTO:+0100
TZNAME:CET
DTSTART:20261025T010000
END:STANDARD
BEGIN:DAYLIGHT
TZOFFSETFROM:+0100
TZOFFSETTO:+0200
TZNAME:CEST
DTSTART:20270328T010000
END:DAYLIGHT
BEGIN:STANDARD
TZOFFSETFROM:+0200
TZOFFSETTO:+0100
TZNAME:CET
DTSTART:20271031T010000
END:STANDARD
END:VTIMEZONE
BEGIN:VEVENT
DTSTART;TZID=Europe/Prague:20260920T183000
DTEND;TZID=Europe/Prague:20260920T213000
DTSTAMP:20260419T225330
CREATED:20260122T173414Z
LAST-MODIFIED:20260122T173414Z
UID:17001-1789929000-1789939800@dnesnivylet.cz
SUMMARY:The Beatles Revival + Karel Kahovec + Michal Šindelář
DESCRIPTION:The Beatles Revival + Karel Kahovec + Michal Šindelář se uskuteční dne 2026-09-20 v 18:30 v Doksy\, Přírodní Divadlo Doksy u Kladna. \n🎟️ Koupit vstupenku \n\nNarozeninový koncert legendárního Karla Kahovce 2026!  \nv neděli 20.9.2026 od 18:30 Přírodí divadlo Doksy u Kladna \nkombinované stání a sezení  \nZveme vás na výjimečný hudební večer\, kde své životní jubileum oslaví nezaměnitelný Karel Kahovec – ikona českého bigbítu a jeden z nejvýraznějších hlasů své generace. \nNa jednom pódiu se představí společně se skupinou The Beatles Revival\, která koncert obohatí o nesmrtelné hity slavných „Brouků“. \nMůžete se těšit na největší Kahovcovy písně\, mezi nimi například: \n\nHáj Modřínů\nPaní v černém\nSvou lásku jsem rozdal\nPoprava blond holky\n\nA samozřejmě nebudou chybět legendární skladby The Beatles\, které dodají večeru jedinečnou atmosféru. \nJako vzácný host koncertu se představí bývalý bubeník legendárního Katapultu – Michal Šindelář s fláky od Katapultu a svým jedinečným hitem Hořely Padaly Hvězdy \nSoučástí koncertu bude také vzpomínka na Petra Nováka\, jednoho z největších hlasů české hudby. Připomeneme si jeho nezapomenutelné hity: \n\nPovídej\nHvězdičko blýskavá\nJá budu chodit po špičkách\nNáhrobní kámen\n\nPřijďte zažít večer plný emocí\, velkých hitů a pocty třem hudebním legendám.Tahle narozeninová oslava bude stát za to! \n\nTento tip na kulturní akci v Doksy najdete v přehledu na Dnesnivylet.cz spolu s dalšími koncerty\, festivaly a divadelními představeními.Každý si vybere co se mu líbí. Nezapomeňte koupit vstupenky včas\, stačí kliknout a budete přesměrování na oficiálního prodejce vstupenek.
URL:https://dnesnivylet.cz/event/the-beatles-revival-karel-kahovec-michal-sindelar/
LOCATION:Přírodní Divadlo Doksy u Kladna\, Doksy\, Přírodní Divadlo Doksy u Kladna\, Doksy\, Česká republika
CATEGORIES:Koncert
ATTACH;FMTTYPE=image/jpeg:https://dnesnivylet.cz/wp-content/uploads/2026/01/320-44c91a987bd54f40838913bd7e001099.jpg
END:VEVENT
END:VCALENDAR