BEGIN:VCALENDAR
VERSION:2.0
PRODID:-//www.dnesnivylet.cz                                                                                                                        Tip na výlet pro celou rodinu. - ECPv6.15.13.1//NONSGML v1.0//EN
CALSCALE:GREGORIAN
METHOD:PUBLISH
X-WR-CALNAME:www.dnesnivylet.cz                                                                                                                        Tip na výlet pro celou rodinu.
X-ORIGINAL-URL:https://dnesnivylet.cz
X-WR-CALDESC:Akce na www.dnesnivylet.cz                                                                                                                        Tip na výlet pro celou rodinu.
REFRESH-INTERVAL;VALUE=DURATION:PT1H
X-Robots-Tag:noindex
X-PUBLISHED-TTL:PT1H
BEGIN:VTIMEZONE
TZID:Europe/Prague
BEGIN:DAYLIGHT
TZOFFSETFROM:+0100
TZOFFSETTO:+0200
TZNAME:CEST
DTSTART:20250330T010000
END:DAYLIGHT
BEGIN:STANDARD
TZOFFSETFROM:+0200
TZOFFSETTO:+0100
TZNAME:CET
DTSTART:20251026T010000
END:STANDARD
BEGIN:DAYLIGHT
TZOFFSETFROM:+0100
TZOFFSETTO:+0200
TZNAME:CEST
DTSTART:20260329T010000
END:DAYLIGHT
BEGIN:STANDARD
TZOFFSETFROM:+0200
TZOFFSETTO:+0100
TZNAME:CET
DTSTART:20261025T010000
END:STANDARD
BEGIN:DAYLIGHT
TZOFFSETFROM:+0100
TZOFFSETTO:+0200
TZNAME:CEST
DTSTART:20270328T010000
END:DAYLIGHT
BEGIN:STANDARD
TZOFFSETFROM:+0200
TZOFFSETTO:+0100
TZNAME:CET
DTSTART:20271031T010000
END:STANDARD
END:VTIMEZONE
BEGIN:VEVENT
DTSTART;TZID=Europe/Prague:20261105T190000
DTEND;TZID=Europe/Prague:20261105T220000
DTSTAMP:20260419T212825
CREATED:20260208T145015Z
LAST-MODIFIED:20260208T145016Z
UID:17687-1793905200-1793916000@dnesnivylet.cz
SUMMARY:Karel Kahovec 80 - George & Beatovens - The Beatles Revival
DESCRIPTION:Karel Kahovec 80 – George & Beatovens – The Beatles Revival se uskuteční dne 2026-11-05 v 19:00 v Praha\, KD Barikádníků. \n🎟️ Koupit vstupenku \n\nNarozeninový koncert legendárního Karla Kahovce 2026!  \nve čtvrtek 5.11.2026 od 19:00 Praha – KD Barikádníků ( legendární Barča) \nNEČÍSLOVANÉ SEZENÍ \nZveme vás na výjimečný hudební večer\, kde své životní jubileum oslaví nezaměnitelný Karel Kahovec – ikona českého bigbítu a jeden z nejvýraznějších hlasů své generace. \nNa jednom pódiu se představí společně se skupinami George & Beatovens a The Beatles Revival\, která koncert obohatí o nesmrtelné hity slavných „Brouků“. \nMůžete se těšit na největší Kahovcovy písně\, mezi nimi například: \n\nHáj Modřínů\nPaní v černém\nSvou lásku jsem rozdal\nPoprava blond holky\n\nA samozřejmě nebudou chybět legendární skladby The Beatles\, které dodají večeru jedinečnou atmosféru. \nJako vzácní hosté koncertu se představí bývalý bubeník legendárního Katapultu – Michal Šindelář s fláky od Katapultu a svým jedinečným hitem Hořely Padaly Hvězdy a legendární Viktor Sodoma se svými hity \nSoučástí koncertu bude také vzpomínka na Petra Nováka\, jednoho z největších hlasů české hudby. Připomeneme si jeho nezapomenutelné hity: \n\nPovídej\nHvězdičko blýskavá\nJá budu chodit po špičkách\nNáhrobní kámen\n\nPřijďte zažít večer plný emocí\, velkých hitů a judebních legend.Tahle narozeninová oslava bude stát za to! \n\nTento tip na kulturní akci v Praha najdete v přehledu na Dnesnivylet.cz spolu s dalšími koncerty\, festivaly a divadelními představeními.Každý si vybere co se mu líbí. Nezapomeňte koupit vstupenky včas\, stačí kliknout a budete přesměrování na oficiálního prodejce vstupenek.
URL:https://dnesnivylet.cz/event/karel-kahovec-80-george-beatovens-the-beatles-revival/
LOCATION:KD Barikádníků\, Praha\, KD Barikádníků\, Praha\, Česká republika
CATEGORIES:Koncert
ATTACH;FMTTYPE=image/jpeg:https://dnesnivylet.cz/wp-content/uploads/2026/02/320-539ce90eb4e9457bb3b571a3580f33e7.jpg
END:VEVENT
END:VCALENDAR