BEGIN:VCALENDAR
VERSION:2.0
PRODID:-//www.dnesnivylet.cz                                                                                                                        Tip na výlet pro celou rodinu. - ECPv6.15.13.1//NONSGML v1.0//EN
CALSCALE:GREGORIAN
METHOD:PUBLISH
X-WR-CALNAME:www.dnesnivylet.cz                                                                                                                        Tip na výlet pro celou rodinu.
X-ORIGINAL-URL:https://dnesnivylet.cz
X-WR-CALDESC:Akce na www.dnesnivylet.cz                                                                                                                        Tip na výlet pro celou rodinu.
REFRESH-INTERVAL;VALUE=DURATION:PT1H
X-Robots-Tag:noindex
X-PUBLISHED-TTL:PT1H
BEGIN:VTIMEZONE
TZID:Europe/Prague
BEGIN:DAYLIGHT
TZOFFSETFROM:+0100
TZOFFSETTO:+0200
TZNAME:CEST
DTSTART:20250330T010000
END:DAYLIGHT
BEGIN:STANDARD
TZOFFSETFROM:+0200
TZOFFSETTO:+0100
TZNAME:CET
DTSTART:20251026T010000
END:STANDARD
BEGIN:DAYLIGHT
TZOFFSETFROM:+0100
TZOFFSETTO:+0200
TZNAME:CEST
DTSTART:20260329T010000
END:DAYLIGHT
BEGIN:STANDARD
TZOFFSETFROM:+0200
TZOFFSETTO:+0100
TZNAME:CET
DTSTART:20261025T010000
END:STANDARD
BEGIN:DAYLIGHT
TZOFFSETFROM:+0100
TZOFFSETTO:+0200
TZNAME:CEST
DTSTART:20270328T010000
END:DAYLIGHT
BEGIN:STANDARD
TZOFFSETFROM:+0200
TZOFFSETTO:+0100
TZNAME:CET
DTSTART:20271031T010000
END:STANDARD
END:VTIMEZONE
BEGIN:VEVENT
DTSTART;TZID=Europe/Prague:20261125T190000
DTEND;TZID=Europe/Prague:20261125T220000
DTSTAMP:20260419T225336
CREATED:20260110T165543Z
LAST-MODIFIED:20260110T165543Z
UID:16663-1795633200-1795644000@dnesnivylet.cz
SUMMARY:Michael Szatmary - Lokálny sexsymbol - Stand-up speciál
DESCRIPTION:Michael Szatmary – Lokálny sexsymbol – Stand-up speciál se uskuteční dne 2026-11-25 v 19:00 v Praha\, Divadlo U Hasičů. \n🎟️ Koupit vstupenku \n\nMichael Szatmary\, jedno z největších a nejzářivějších jmen slovenské stand-up komediální scény\, který je velmi oblíbený i českým publikem\, vyráží na turné se svým Stand-up comedy speciálem. \nMůžete se těšit na 80. minutovou show\, ve které vás Michael nebude šetřit a celý večer se budete smát jeho nejlepším historkám. \n\nTento tip na kulturní akci v Praha najdete v přehledu na Dnesnivylet.cz spolu s dalšími koncerty\, festivaly a divadelními představeními.Každý si vybere co se mu líbí. Nezapomeňte koupit vstupenky včas\, stačí kliknout a budete přesměrování na oficiálního prodejce vstupenek.
URL:https://dnesnivylet.cz/event/michael-szatmary-lokalny-sexsymbol-stand-up-special-14/
LOCATION:Divadlo U Hasičů\, Praha\, Divadlo U Hasičů\, Praha\, Česká republika
CATEGORIES:Zábava
ATTACH;FMTTYPE=image/jpeg:https://dnesnivylet.cz/wp-content/uploads/2026/01/320-2929781391aa41739d30abb168bc0582.jpg
END:VEVENT
BEGIN:VEVENT
DTSTART;TZID=Europe/Prague:20261125T190000
DTEND;TZID=Europe/Prague:20261125T220000
DTSTAMP:20260419T225336
CREATED:20260211T110938Z
LAST-MODIFIED:20260211T111012Z
UID:17941-1795633200-1795644000@dnesnivylet.cz
SUMMARY:Muži o ženách... s láskou
DESCRIPTION:Muži o ženách… s láskou se uskuteční dne 2026-11-25 v 19:00 v Hulín\, Městské kulturní centrum – Sokolovna. \n🎟️ Koupit vstupenku \n\nTigran Hovakimyan a Jiří Jakima / Muži o ženách… s láskou \nKomici z televizního pořadu „Comedy Club“ Tigran Hovakimyan a Jiří Jakima přijíždí do vašeho města\, aby bez obalu rozebrali téma muži versus ženy. Chtěli jste vždycky vědět\, co si muži myslí o něžném pohlaví\, ale báli jste se zeptat? Potom je stand-upová komediální show „Muži o ženách“ právě pro vás! \n\nTento tip na kulturní akci v Hulín najdete v přehledu na Dnesnivylet.cz spolu s dalšími koncerty\, festivaly a divadelními představeními.Každý si vybere co se mu líbí. Nezapomeňte koupit vstupenky včas\, stačí kliknout a budete přesměrování na oficiálního prodejce vstupenek.
URL:https://dnesnivylet.cz/event/muzi-o-zenach-s-laskou-3/
LOCATION:Městské kulturní centrum – Sokolovna\, Hulín\, Městské kulturní centrum - Sokolovna\, Hulín\, Česká republika
CATEGORIES:Zábava
ATTACH;FMTTYPE=image/jpeg:https://dnesnivylet.cz/wp-content/uploads/2026/02/320-ee9e5042dcc449b1a410b23cfcc25506.jpg
END:VEVENT
BEGIN:VEVENT
DTSTART;TZID=Europe/Prague:20261125T190000
DTEND;TZID=Europe/Prague:20261125T220000
DTSTAMP:20260419T225336
CREATED:20260211T114814Z
LAST-MODIFIED:20260211T114816Z
UID:17973-1795633200-1795644000@dnesnivylet.cz
SUMMARY:TUBLATANKA - Litoměřice
DESCRIPTION:TUBLATANKA – Litoměřice se uskuteční dne 2026-11-25 v 19:00 v Litoměřice\, Kulturní dům. \n🎟️ Koupit vstupenku \n\nPRVNÍ VLNA VYPRODÁNA! \nDRUHÁ VLNA BĚŽÍ.. \n  \nTUBLATANKA \nSkupina sa začala formovať na jeseň v roku 1982\, kedy Maťo Ďurinda (vl. menom Martin Ďurinda) študent prvého ročníka Farmaceutickej fakulty U.K. sa prostredníctvom kamaráta Temerafa zoznámil vo vinárni Veľkí Františkáni s bubeníkom Jurajom Černým\, študentom VŠMU odbor dokumentárna réžia\, ktorý vtedy už mal za sebou niekoľko vystúpení so známou zábavovou big beatovou skupinou YPS. \nV prvom rozhovore pri vínnych strikoch si padli do oka…  \n… a dnes už se těšíme na jejich koncert u Vás! \n\nTento tip na kulturní akci v Litoměřice najdete v přehledu na Dnesnivylet.cz spolu s dalšími koncerty\, festivaly a divadelními představeními.Každý si vybere co se mu líbí. Nezapomeňte koupit vstupenky včas\, stačí kliknout a budete přesměrování na oficiálního prodejce vstupenek.
URL:https://dnesnivylet.cz/event/tublatanka-litomerice-3/
LOCATION:Kulturní dům\, Litoměřice\, Kulturní dům\, Litoměřice\, Česká republika
CATEGORIES:Koncert
ATTACH;FMTTYPE=image/jpeg:https://dnesnivylet.cz/wp-content/uploads/2026/02/320-08977523d597448d8a3e0bc7ad0e81e4-1.jpg
END:VEVENT
BEGIN:VEVENT
DTSTART;TZID=Europe/Prague:20261125T190000
DTEND;TZID=Europe/Prague:20261125T220000
DTSTAMP:20260419T225336
CREATED:20260211T114814Z
LAST-MODIFIED:20260211T114816Z
UID:17974-1795633200-1795644000@dnesnivylet.cz
SUMMARY:TUBLATANKA - Litoměřice
DESCRIPTION:TUBLATANKA – Litoměřice se uskuteční dne 2026-11-25 v 19:00 v Litoměřice\, Kulturní dům. \n🎟️ Koupit vstupenku \n\nPRVNÍ VLNA VYPRODÁNA! \nDRUHÁ VLNA BĚŽÍ.. \n  \nTUBLATANKA \nSkupina sa začala formovať na jeseň v roku 1982\, kedy Maťo Ďurinda (vl. menom Martin Ďurinda) študent prvého ročníka Farmaceutickej fakulty U.K. sa prostredníctvom kamaráta Temerafa zoznámil vo vinárni Veľkí Františkáni s bubeníkom Jurajom Černým\, študentom VŠMU odbor dokumentárna réžia\, ktorý vtedy už mal za sebou niekoľko vystúpení so známou zábavovou big beatovou skupinou YPS. \nV prvom rozhovore pri vínnych strikoch si padli do oka…  \n… a dnes už se těšíme na jejich koncert u Vás! \n\nTento tip na kulturní akci v Litoměřice najdete v přehledu na Dnesnivylet.cz spolu s dalšími koncerty\, festivaly a divadelními představeními.Každý si vybere co se mu líbí. Nezapomeňte koupit vstupenky včas\, stačí kliknout a budete přesměrování na oficiálního prodejce vstupenek.
URL:https://dnesnivylet.cz/event/tublatanka-litomerice-2/
LOCATION:Kulturní dům\, Litoměřice\, Kulturní dům\, Litoměřice\, Česká republika
CATEGORIES:Koncert
ATTACH;FMTTYPE=image/jpeg:https://dnesnivylet.cz/wp-content/uploads/2026/02/320-08977523d597448d8a3e0bc7ad0e81e4.jpg
END:VEVENT
END:VCALENDAR